BEGIN:VCALENDAR
VERSION:2.0
PRODID:-//ChamberMaster//Event Calendar 2.0//EN
METHOD:PUBLISH
X-PUBLISHED-TTL:P3D
REFRESH-INTERVAL:P3D
CALSCALE:GREGORIAN
BEGIN:VEVENT
DTSTART:20110408T123000Z
DTEND:20110408T133000Z
X-MICROSOFT-CDO-ALLDAYEVENT:FALSE
SUMMARY:Executives Club
DESCRIPTION:This event is exclusive for CEOs\, Presidents and owners of Chamber member businesses. Trinity Regional Health System operates four full-service hospitals in Rock Island and Moline\, Illinois and Bettendorf and Muscatine\, Iowa. Trinity is a senior affiliate of Iowa Health System\, the state's first and largest integrated health system that serves the health-care needs of one in three Iowans. The mission of Trinity Regional Health System is to improve the health of the people and communities we serve. President and CEO\, Rick Seidler will present his perspective of the recent healthcare reform laws and the unique challenges given the current political climate.
X-ALT-DESC;FMTTYPE=text/html:<DIV align=center><FONT face=Arial>This event is exclusive for CEOs\, Presidents and owners of Chamber member businesses.</FONT></DIV><DIV align=center><FONT face=Arial></FONT>&nbsp\;</DIV><DIV align=center><FONT face=Arial>Trinity Regional Health System operates four full-service hospitals in Rock Island and Moline\, Illinois and Bettendorf and Muscatine\, Iowa. Trinity is a senior affiliate of Iowa Health System\, the state's first and largest integrated health system that serves the health-care needs of one in three Iowans. The mission of Trinity Regional Health System is to improve the health of the people and communities we serve. President and CEO\, Rick Seidler will present his perspective of the recent healthcare reform laws and the unique challenges given the current political climate. </FONT></DIV>
LOCATION:i wireless Center1201 River Drive Moline\, IL 61265--130
UID:e.2843.135
SEQUENCE:3
DTSTAMP:20260423T005527Z
URL:https://member.quadcitieschamber.com/events/details/executives-club-04-08-2011-135
END:VEVENT

END:VCALENDAR
