BEGIN:VCALENDAR
VERSION:2.0
PRODID:-//ChamberMaster//Event Calendar 2.0//EN
METHOD:PUBLISH
X-PUBLISHED-TTL:P3D
REFRESH-INTERVAL:P3D
CALSCALE:GREGORIAN
BEGIN:VEVENT
DTSTART:20110506T123000Z
DTEND:20110506T133000Z
X-MICROSOFT-CDO-ALLDAYEVENT:FALSE
SUMMARY:Executives Club
DESCRIPTION:Mike Whalen began his entrepreneurial business with a 100-seat coffee shop in Davenport\, IA after graduation from Harvard Law School.  In 1978 he started what has today become a major hospitality group with over 29 hotels and restaurants spanning six Midwestern states.  Mr. Whalen will share innovative methods of building an entrepreneurial culture in a small business environment and how to successfully foster new ways of thinking in order to grow your business.
X-ALT-DESC;FMTTYPE=text/html:<DIV style="FONT-FAMILY: Arial"><P style="MARGIN: 0in 0in 0pt\; mso-margin-top-alt: auto\; mso-margin-bottom-alt: auto" class=MsoNormal><SPAN style="COLOR: #1f497d"><FONT face="Times New Roman">Mike Whalen began his entrepreneurial business with a 100-seat coffee shop in Davenport\, IA after graduation from Harvard Law School.&nbsp\; In 1978 he started what has today become a major hospitality group with over 29 hotels and restaurants spanning six Midwestern states.&nbsp\; Mr. Whalen will share innovative methods of building an entrepreneurial culture in a small business environment and how to successfully foster new ways of thinking in order to grow your business.&nbsp\; </FONT></SPAN></P></DIV>
LOCATION:i wireless Center1201 River Drive Moline\, IL 61265--130
UID:e.2843.147
SEQUENCE:3
DTSTAMP:20260423T005713Z
URL:https://member.quadcitieschamber.com/events/details/executives-club-05-06-2011-147
END:VEVENT

END:VCALENDAR
