BEGIN:VCALENDAR
VERSION:2.0
PRODID:-//ChamberMaster//Event Calendar 2.0//EN
METHOD:PUBLISH
X-PUBLISHED-TTL:P3D
REFRESH-INTERVAL:P3D
CALSCALE:GREGORIAN
BEGIN:VEVENT
DTSTART:20170804T123000Z
DTEND:20170804T133000Z
X-MICROSOFT-CDO-ALLDAYEVENT:FALSE
SUMMARY:Executives Club-An Inside Look: HNI leader talks strategy\, globalization and our regional economy (August 2017)
DESCRIPTION:Stan Askren\, Chairman\, President and CEO of HNI Corporation\, will present on the strategic direction of HNI\, globalization\, trends in their industry and HNI's impact on the regional economy. Headquartered in Muscatine\, Iowa\, HNI Corporation is a family of leading brands providing products and services for the office and home.\n\n \n\nOver the years\, HNI Corporation\, has been named among the Top 100 Most Trustworthy Companies by Forbes magazine and the Top 100 Companies for Leadership Development by Executive Magazine.  Among the accolades\, HNI remains true to its core: the vision of a workplace where all employees are treated equally and respectfully as members of a productive industrial enterprise.\n\n\n\n\n\nThis program is exclusively for Presidents\, CEO's and Executives\n\n\n\n**Cancellation Policy - If you need to cancel your registration\, you must do so more than 72 hours prior to the event date in order to receive a full refund.
X-ALT-DESC;FMTTYPE=text/html:<p><span style="font-size:16px\;"><span style="font-family:arial\;">Stan Askren\, Chairman\, President and CEO of HNI Corporation\, will present on the strategic direction of HNI\, globalization\, trends in their industry and HNI&rsquo\;s impact on the regional economy. Headquartered in Muscatine\, Iowa\, HNI Corporation is a family of leading brands providing products and services for the office and home.<br />\n&nbsp\;<br />\nOver the years\, HNI Corporation\, has been named among the&nbsp\;<a href="http://www.forbes.com/sites/kathryndill/2016/04/08/the-100-most-trustworthy-companies-in-america-2/2/#79c0ede719de" target="_blank"><span style="text-decoration-line:none\;"><span style="color:windowtext\;">Top 100 Most Trustworthy Companies</span></span></a>&nbsp\;by&nbsp\;<em>Forbes </em>magazine and the&nbsp\;<a href="http://investors.hnicorp.com/file/Index?KeyFile=21972337" target="_blank"><span style="text-decoration-line:none\;"><span style="color:windowtext\;">Top 100 Companies for Leadership Development</span></span></a>&nbsp\;by&nbsp\;<em>Executive Magazine</em>. &nbsp\;Among the accolades\, HNI remains true to its core: the vision of a workplace where all employees are treated equally and respectfully as members of a productive industrial enterprise.</span></span><br />\n<br />\n<br />\n<span style="background-color: rgb(255\, 255\, 255)\; color: rgb(29\, 33\, 41)\; font-family: Helvetica\, Arial\, sans-serif\; font-size: 14px\; white-space: pre-wrap\;"><span style="font-size:16px\;">This program is exclusively for Presidents\, CEO&#39\;s and Executives</span></span><br />\n<br background-color:="" font-size:="" style="color: rgb(51\, 51\, 51)\; font-family: sans-serif\, Arial\, Verdana\, " trebuchet="" />\n<strong background-color:="" font-size:="" style="color: rgb(51\, 51\, 51)\; font-family: sans-serif\, Arial\, Verdana\, " trebuchet=""><span style="font-family: arial\;">**Cancellation&nbsp\;Policy - If you need to cancel your registration\, you must do so more than 72 hours prior to the event date in order to receive a full refund.&nbsp\;</span></strong><span background-color:="" font-size:="" style="color: rgb(51\, 51\, 51)\; font-family: sans-serif\, Arial\, Verdana\, " trebuchet=""><span style="font-family: arial\;">&nbsp\;</span></span></p>\n\n<p class="MsoNormal" style="MARGIN: 0in 0in 10pt">&nbsp\;</p>\n
LOCATION:iWireless Center 1201 River Drive Moline\, IL 612651303
UID:e.2843.1357
SEQUENCE:3
DTSTAMP:20260423T232236Z
URL:https://member.quadcitieschamber.com/events/details/executives-club-an-inside-look-hni-leader-talks-strategy-globalization-and-our-regional-economy-august-2017-1357
END:VEVENT

END:VCALENDAR
