BEGIN:VCALENDAR
VERSION:2.0
PRODID:-//ChamberMaster//Event Calendar 2.0//EN
METHOD:PUBLISH
X-PUBLISHED-TTL:P3D
REFRESH-INTERVAL:P3D
CALSCALE:GREGORIAN
BEGIN:VEVENT
DTSTART:20120406T123000Z
DTEND:20120406T133000Z
X-MICROSOFT-CDO-ALLDAYEVENT:FALSE
SUMMARY:Executives Club - April 2012
DESCRIPTION:Executives ClubExclusively for Presidents\, CEOs and Executives           -->       Click here to see who has already registered for this event! .
X-ALT-DESC;FMTTYPE=text/html:<SPAN style="FONT-FAMILY: 'Arial'\,'sans-serif'\; FONT-SIZE: 12pt"><P style="TEXT-ALIGN: center\; MARGIN: 0in 0in 0pt" align=center><FONT face="Times New Roman"><STRONG><SPAN style="COLOR: #333333\; FONT-SIZE: 18pt">Executives Club</SPAN></STRONG><SPAN style="COLOR: #333333\; FONT-SIZE: 18pt"><?xml:namespace prefix = o ns = "urn:schemas-microsoft-com:office:office" /><o:p></o:p></SPAN></FONT></P><P style="TEXT-ALIGN: center\; MARGIN: 0in 0in 0pt" align=center><FONT face="Times New Roman"><EM><B><SPAN style="COLOR: #333333\; FONT-SIZE: 10pt">Exclusively for Presidents\, CEOs and Executives</SPAN></B></EM><STRONG><SPAN style="COLOR: #333333\; FONT-SIZE: 14pt">&nbsp\;</SPAN></STRONG><SPAN style="COLOR: #333333\; FONT-SIZE: 14pt"><o:p></o:p></SPAN></FONT></P><P style="TEXT-ALIGN: center\; MARGIN: 0in 0in 0pt" align=center><SPAN style="COLOR: #333333\; FONT-SIZE: 14pt"><FONT face="Times New Roman">&nbsp\;<o:p></o:p></FONT></SPAN></P><P style="MARGIN: 0in 0in 0pt"><SPAN face="Arial\, sans-serif"><I><SPAN style="FONT-FAMILY: 'Arial'\,'sans-serif'\; COLOR: #333333"></SPAN></I></SPAN>&nbsp\;</P><P style="MARGIN: 0in 0in 0pt"><SPAN face="Arial\, sans-serif"><I><SPAN style="FONT-FAMILY: 'Arial'\,'sans-serif'\; COLOR: #333333"></SPAN></I></SPAN>&nbsp\;</P><P style="MARGIN: 0in 0in 0pt"><SPAN face="Arial\, sans-serif"><I><SPAN style="FONT-FAMILY: 'Arial'\,'sans-serif'\; COLOR: #333333"></SPAN></I></SPAN>&nbsp\;</P><P style="MARGIN: 0in 0in 0pt"><SPAN face="Arial\, sans-serif"><I><SPAN style="FONT-FAMILY: 'Arial'\,'sans-serif'\; COLOR: #333333"></SPAN></I></SPAN>&nbsp\;</P><P style="MARGIN: 0in 0in 0pt"><SPAN face="Arial\, sans-serif"><I><SPAN style="FONT-FAMILY: 'Arial'\,'sans-serif'\; COLOR: #333333"></SPAN></I></SPAN>&nbsp\;</P><P style="MARGIN: 0in 0in 0pt"><SPAN face="Arial\, sans-serif"><I><SPAN style="FONT-FAMILY: 'Arial'\,'sans-serif'\; COLOR: #333333"></SPAN></SPAN><SPAN style="COLOR: #333333"><o:p></o:p></SPAN></I>&nbsp\;</P><P style="MARGIN: 0in 0in 0pt"><SPAN style="COLOR: #333333"><FONT face="Times New Roman">&nbsp\;</FONT></SPAN><FONT face="Times New Roman"><I><SPAN style="COLOR: #333333\; FONT-SIZE: 10pt">&nbsp\;</SPAN></I><SPAN style="COLOR: #333333"><o:p></o:p></SPAN></FONT></P><!-- </img> --><P style="MARGIN: 0in 0in 0pt"><SPAN style="COLOR: #333333"><FONT face="Times New Roman"><o:p></o:p></FONT></SPAN></P><P style="MARGIN: 0in 0in 0pt" class=MsoNormal><SPAN style="COLOR: #333333"><SPAN face="'Times New Roman'\, Times"><FONT face="Times New Roman">&nbsp\;&nbsp\; &nbsp\; &nbsp\; </FONT></SPAN><o:p></o:p></SPAN></P></SPAN><SPAN style="FONT-FAMILY: 'Arial'\,'sans-serif'\; FONT-SIZE: 12pt"><SPAN style="FONT-FAMILY: 'Arial'\,'sans-serif'\; FONT-SIZE: 12pt"><P style="MARGIN: 0in 0in 0pt\; mso-margin-top-alt: auto\; mso-margin-bottom-alt: auto" class=MsoNormal><SPAN style="FONT-FAMILY: 'Arial'\,'sans-serif'\; FONT-SIZE: 10pt\; mso-fareast-font-family: 'Times New Roman'"><A style="COLOR: blue\; TEXT-DECORATION: underline" title="" dataFld=0:0 href="http://events.quadcitieschamber.com/sbaweb/common/attendees.asp?eventcode=EXEC 04/12" target=_self><SPAN style="COLOR: windowtext">Click here</SPAN></A> to see who has already registered for this event! <o:p></o:p></SPAN></P><P style="MARGIN: 0in 0in 0pt" class=MsoNoSpacing align=center>. <A name=_GoBack></A><o:p></o:p></SPAN></P></SPAN>
LOCATION:i wireless Center1201 River Drive Moline\, IL 612651303
UID:e.2843.206
SEQUENCE:3
DTSTAMP:20260422T031059Z
URL:https://member.quadcitieschamber.com/events/details/executives-club-april-2012-04-06-2012-206
END:VEVENT

END:VCALENDAR
