BEGIN:VCALENDAR
VERSION:2.0
PRODID:-//ChamberMaster//Event Calendar 2.0//EN
METHOD:PUBLISH
X-PUBLISHED-TTL:P3D
REFRESH-INTERVAL:P3D
CALSCALE:GREGORIAN
BEGIN:VEVENT
DTSTART:20170505T123000Z
DTEND:20170505T133000Z
X-MICROSOFT-CDO-ALLDAYEVENT:FALSE
SUMMARY:Executives Club: Belgium Ambassador Dirk Wouters - Transatlantic relations in an age of doubt (May 2017)
DESCRIPTION:Centrally located in the European Union\, Belgium is one of the most open economies and leading exporters in the world. Ambassador Dirk Wouters will share insight on the current European political climate and his perspective as to how Belgium sees the transatlantic trade relationship after a turbulent 2016. Ambassador Wouters will also share his thoughts on what the current American administration likely means for trade relations and the economy.\n\n\n\nDirk Wouters was appointed Ambassador of the Kingdom of Belgium to the United States of America in Washington D.C. in September 2016.\n\n\n\n*Please note this month's meeting location is at MetroLINK Centre Station. \n\n\n\nThis program is exclusively for Presidents\, CEO's and Executives\, register to attend\n\n**Cancellation Policy - If you need to cancel your registration\, you must do so more than 72 hours prior to the event date in order to receive a full refund.
X-ALT-DESC;FMTTYPE=text/html:<p><span style="background-image:initial\;background-position:initial\;background-size:initial\;background-repeat:initial\;background-attachment:initial\;background-origin:initial\;background-clip:initial\;"><span style="color:#273238\;"><span style="font-family:arial\;"><span style="font-size:16px\;">Centrally located in the European Union\, Belgium is one of the most open economies and leading exporters in the world. Ambassador Dirk Wouters will share insight on the current European political climate and his perspective as to how Belgium sees the transatlantic trade relationship after a turbulent 2016. Ambassador Wouters will also share his thoughts on what the current American administration likely means for trade relations and the economy.</span></span></span></span><br />\n<br />\n<span style="font-size:16px\;"><span style="font-family:arial\;">Dirk Wouters was appointed Ambassador of the Kingdom of Belgium to the United States of America in Washington D.C. in September 2016.<br />\n<br />\n<span style="color:#FF0000\;">*Please note this month&#39\;s meeting location is at MetroLINK Centre Station.&nbsp\;</span></span></span><br />\n<br />\n<span style="color: rgb(29\, 33\, 41)\; font-family: Helvetica\, Arial\, sans-serif\; font-size: 14px\; white-space: pre-wrap\;">This program is exclusively for Presidents\, CEO&#39\;s and Executives\, register to attend</span><br />\n<strong style="color: rgb(51\, 51\, 51)\; font-family: sans-serif\, Arial\, Verdana\, &quot\;Trebuchet MS&quot\;\; font-size: 16px\; background-color: rgb(255\, 255\, 255)\;"><span style="font-family: arial\;">**Cancellation&nbsp\;Policy - If you need to cancel your registration\, you must do so more than 72 hours prior to the event date in order to receive a full refund.&nbsp\;</span></strong><span style="font-size:12px\;"><span style="font-family:arial\;">&nbsp\;</span></span></p>\n
LOCATION:MetroLINK Centre Station 1200 River Dr. Moline\, IL 61265
UID:e.2843.1355
SEQUENCE:3
DTSTAMP:20260424T032117Z
URL:https://member.quadcitieschamber.com/events/details/executives-club-belgium-ambassador-dirk-wouters-transatlantic-relations-in-an-age-of-doubt-may-2017-1355
END:VEVENT

END:VCALENDAR
