BEGIN:VCALENDAR
VERSION:2.0
PRODID:-//ChamberMaster//Event Calendar 2.0//EN
METHOD:PUBLISH
X-PUBLISHED-TTL:P3D
REFRESH-INTERVAL:P3D
CALSCALE:GREGORIAN
BEGIN:VEVENT
DTSTART:20180202T133000Z
DTEND:20180202T143000Z
X-MICROSOFT-CDO-ALLDAYEVENT:FALSE
SUMMARY:Executives Club - Building a Better Team: Workforce Attraction Strategies
DESCRIPTION:For startups\, small businesses\, and large companies alike\, effective talent management is crucial for attracting and retaining a high-powered workforce. Quad Citizens are our regions greatest asset. Through Q2030 this region has goals to increase the number of young adults in the region and securing a skilled workforce remains one of the top priorities.\n\n\n\nLearn from a panel of local business owners on successful strategies used in attracting and recruiting employees. Hear the ways they have adapted their company culture to be more attractive to young talent and how they are using interns to support workforce recruitment efforts. Use these attraction and retention strategies and tactics as you work to hire a professional and energized workforce to support your business goals.\n\n\n\nPanelists:\n\n\n	Jennifer Bennett\, Shive-Hattery \n	Diane Foss\, Genesis Systems Group\n	A.J. Loss\, Bush Construction\n	Mike Mickle\, Mickle Communications\n	Laura Sivertsen\, Deere & Company\n\n\nModerator   Tom Schuetz\, Group Services \n\n\n\nThis program is exclusively for Presidents\, CEO's and Executives\, register to attend\n\n\n\n**Cancellation Policy - If you need to cancel your registration\, you must do so more than 72 hours prior to the event date in order to receive a full refund.
X-ALT-DESC;FMTTYPE=text/html:<p><span style="font-size:16px\;"><span style="font-family:arial\;"><span style="background-image:initial\;background-position:initial\;background-size:initial\;background-repeat:initial\;background-attachment:initial\;background-origin:initial\;background-clip:initial\;">For startups\, small businesses\, and large&nbsp\;companies alike\, effective talent management is crucial for attracting and retaining a high-powered workforce.</span> Quad Citizens are our regions greatest asset. Through Q2030 this region has goals to increase the number of young adults in the </span></span><span style="font-size:16px\;"><span style="font-family:arial\;">region&nbsp\;</span></span><span style="font-size:16px\;"><span style="font-family:arial\;">and</span></span><span style="font-size:16px\;"><span style="font-family:arial\;"> securing a skilled workforce remains one of the top priorities.<br />\n<br />\n<span style="background-image:initial\;background-position:initial\;background-size:initial\;background-repeat:initial\;background-attachment:initial\;background-origin:initial\;background-clip:initial\;">Learn from a panel of local business owners on successful strategies used in attracting and recruiting employees. Hear the ways they have adapted their company culture to be more attractive to young talent and how they are using interns to support workforce recruitment efforts.&nbsp\;Use these&nbsp\;attraction and retention strategies and tactics as you work to hire a professional and energized workforce to support your business goals.</span></span></span><br />\n<br />\n<span style="font-size:16px\;"><span style="font-family:arial\;">Panelists:</span></span></p>\n\n<ul>\n	<li><span style="font-size: 16px\;"><span style="font-family: arial\;">Jennifer Bennett\, Shive-Hattery<span style="font-size: 16px\;"><span style="font-family: arial\;">&#8203\;</span></span></span></span></li>\n	<li><span style="font-size: 16px\;"><span style="font-family: arial\;">Diane&nbsp\;Foss\, Genesis Systems Group</span></span></li>\n	<li><span style="font-size: 16px\;"><span style="font-family: arial\;">A.J. Loss\, Bush Construction</span></span></li>\n	<li><span style="font-size: 16px\;"><span style="font-family: arial\;">Mike Mickle\, Mickle Communications</span></span></li>\n	<li><span style="font-size:16px\;"><span style="font-family:arial\;">Laura Sivertsen\, Deere &amp\; Company</span></span></li>\n</ul>\n\n<p><span style="font-size:16px\;"><span style="font-family:arial\;">Moderator &ndash\; Tom Schuetz\, Group Services&nbsp\;</span></span><br />\n<br />\n<span style="color: rgb(29\, 33\, 41)\; font-family: Helvetica\, Arial\, sans-serif\; font-size: 14px\; white-space: pre-wrap\;">This program is exclusively for Presidents\, CEO&#39\;s and Executives\, register to attend</span><br />\n<br />\n<strong style="font-size: 16px\;"><span style="font-family: arial\;">**Cancellation&nbsp\;Policy - If you need to cancel your registration\, you must do so more than 72 hours prior to the event date in order to receive a full refund.&nbsp\;</span></strong><span style="font-size: 12px\;"><span style="font-family: arial\;">&nbsp\;</span></span></p>\n\n<div>&nbsp\;</div>\n
LOCATION:Tax Slayer Center 1201 River Drive Moline\, IL 61265
UID:e.2843.8627
SEQUENCE:3
DTSTAMP:20260423T153017Z
URL:https://member.quadcitieschamber.com/events/details/executives-club-building-a-better-team-workforce-attraction-strategies-8627
END:VEVENT

END:VCALENDAR
