BEGIN:VCALENDAR
VERSION:2.0
PRODID:-//ChamberMaster//Event Calendar 2.0//EN
METHOD:PUBLISH
X-PUBLISHED-TTL:P3D
REFRESH-INTERVAL:P3D
CALSCALE:GREGORIAN
BEGIN:VEVENT
DTSTART:20190503T123000Z
DTEND:20190503T133000Z
X-MICROSOFT-CDO-ALLDAYEVENT:FALSE
SUMMARY:Executives Club: Building a High-growth\, Tech Ecosystem in the Quad Cities featuring Steve Grubbs founder of VictoryVR\, VictoryStore.com\, ChalkBites and Victory Enterprises
DESCRIPTION:Mini-Silicon Valleys are popping up across the United States. Communities like Austin\, Boulder and even Des Moines are being recognized for their high growth tech startups. It doesn't happen by accident\, but it is also not necessary to rely on luck. A short list of strategies can be deployed by business\, education and political leadership to foster a petri dish that will create the ecosystem for clean\, high paying economic growth in the Quad Cities.\n\n\n\nSteve Grubbs is the founder of VictoryXR\, the world's leading creator of curriculum for K-12 schools in augmented and virtual reality. VictoryXR was recently awarded the top international award from HTC Vive for best education VR experience. In addition\, Microsoft\, HP\, Oxford University Press and Intel have all engaged VictoryXR with strategic business or co-marketing relationships. A graduate of the University of Iowa in business and law\, Steve has been a serial entrepreneur working in the fields of consulting\, ecommerce and technology.\n\n\n\n**Cancellation Policy - If you need to cancel your registration\, you must do so more than 72 hours prior to the event date in order to receive a full refund.
X-ALT-DESC;FMTTYPE=text/html:<span style="font-size:16px\;"><span style="font-family:arial\;"><span style="background:white\;">Mini-Silicon Valleys are popping up across the United States. Communities like Austin\, Boulder and even Des Moines are being recognized for their high growth tech startups. It doesn&#39\;t happen by accident\, but it is also not necessary to rely on luck. A short list of strategies can be deployed by business\, education and political leadership to foster a petri dish that will create the ecosystem for clean\, high paying economic growth in the Quad Cities.</span><br />\n<br />\n<span style="background:white\;"><span style="font-variant-ligatures:normal\;font-variant-caps:normal\;orphans:2\;text-align:start\;widows:2\;-webkit-text-stroke-width:0px\;text-decoration-style:initial\;word-spacing:0px\;">Steve Grubbs is the founder of VictoryXR\, the world&#39\;s leading creator of curriculum for K-12 schools in augmented and virtual reality. VictoryXR was recently awarded the top international award from HTC Vive for best education VR experience. In addition\, Microsoft\, HP\, Oxford University Press and Intel have all engaged VictoryXR with strategic business or co-marketing relationships. A graduate of the University of Iowa in business and law\, Steve has been a serial entrepreneur working in the fields of consulting\, ecommerce and technology.</span></span><br style="font-variant-ligatures:normal\;font-variant-caps:normal\;orphans:2\;text-align:start\;widows:2\;-webkit-text-stroke-width:0px\;text-decoration-style:initial\;word-spacing:0px\;" />\n<br style="font-variant-ligatures:normal\;font-variant-caps:normal\;orphans:2\;text-align:start\;widows:2\;-webkit-text-stroke-width:0px\;text-decoration-style:initial\;word-spacing:0px\;" />\n<strong style="font-variant-ligatures:normal\;font-variant-caps:normal\;orphans:2\;text-align:start\;widows:2\;-webkit-text-stroke-width:0px\;text-decoration-style:initial\;word-spacing:0px\;"><span style="background:white\;">**Cancellation&nbsp\;Policy - If you need to cancel your registration\, you must do so more than 72 hours prior to the event date in order to receive a full refund.&nbsp\;</span></strong></span></span>
LOCATION:Tax Slayer Center 1201 River Drive Moline\, IL 61265
UID:e.2843.13646
SEQUENCE:3
DTSTAMP:20260422T164507Z
URL:https://member.quadcitieschamber.com/events/details/executives-club-building-a-high-growth-tech-ecosystem-in-the-quad-cities-featuring-steve-grubbs-founder-of-victoryvr-victorystore-com-chalkbites-and-victory-enterprises-13646
END:VEVENT

END:VCALENDAR
