BEGIN:VCALENDAR
VERSION:2.0
PRODID:-//ChamberMaster//Event Calendar 2.0//EN
METHOD:PUBLISH
X-PUBLISHED-TTL:P3D
REFRESH-INTERVAL:P3D
CALSCALE:GREGORIAN
BEGIN:VEVENT
DTSTART:20181005T123000Z
DTEND:20181005T133000Z
X-MICROSOFT-CDO-ALLDAYEVENT:FALSE
SUMMARY:Executives Club - Cyber Security Readiness: Featuring Beth Tinsman\, CEO & Founder of Twin State Technical Services and FBI Special Agents\, Steven Telisak & Jeffrey Huber
DESCRIPTION:Businesses of all sizes\, industries\, and locations have been targets of cyber attacks\, and with cyber-crime damage costs predicted to hit $6 trillion annually by 2021\, it's important to understand the growing importance of cyber security to our region's businesses. \n\n \n\nBeth Tinsman\, CEO & Founder of Twin State Technical Services and FBI Special Agents\, Steven Telisak & Jeffrey Huber will give executives an overview of the magnitude of the growing cyber threat\, what's important on the cyber-security landscape now\, why businesses should care\, what steps they should take to assess their cyber-security readiness and how to move toward implementation. \n\n\n\nThis program is exclusively for Presidents\, CEO's and Executives\, register to attend\n\n\n\n**Cancellation Policy - If you need to cancel your registration\, you must do so more than 72 hours prior to the event date in order to receive a full refund.
X-ALT-DESC;FMTTYPE=text/html:<p><span style="font-size:16px\;"><span style="font-family:arial\;"><span style="color:#333333\;">Businesses of all sizes\, industries\, and locations have been targets of cyber attacks\, and with cyber-crime&nbsp\;</span><span style="background:white\;"><span style="color:#273238\;">damage costs predicted to hit $6 trillion annually by&nbsp\;</span></span>2021\,<span style="color:#333333\;"> it&rsquo\;s important to understand the growing importance of cyber security to our region&#39\;s businesses.&nbsp\;<br />\n&nbsp\;<br />\nBeth Tinsman\, CEO &amp\; Founder of Twin State Technical Services and FBI Special Agents\, Steven Telisak &amp\; Jeffrey Huber&nbsp\;will give executives an overview of the magnitude of the growing cyber threat\, what&rsquo\;s important on the cyber-security landscape now\, why businesses should care\, what steps they should take to assess their cyber-security readiness and how to move toward implementation.&nbsp\;</span><br />\n<br />\n<span style="color: rgb(29\, 33\, 41)\; white-space: pre-wrap\;">This program is exclusively for Presidents\, CEO&#39\;s and Executives\, register to attend</span></span></span><br />\n<br />\n<strong style="font-size: 16px\;"><span style="font-family: arial\;">**Cancellation&nbsp\;Policy - If you need to cancel your registration\, you must do so more than 72 hours prior to the event date in order to receive a full refund.&nbsp\;</span></strong><span style="font-size: 12px\;"><span style="font-family: arial\;">&nbsp\;</span></span></p>\n\n<div>&nbsp\;</div>\n
LOCATION:Tax Slayer Center 1201 River Drive Moline\, IL 61265
UID:e.2843.8635
SEQUENCE:3
DTSTAMP:20260423T044758Z
URL:https://member.quadcitieschamber.com/events/details/executives-club-cyber-security-readiness-featuring-beth-tinsman-ceo-founder-of-twin-state-technical-services-and-fbi-special-agents-steven-telisak-jeffrey-huber-8635
END:VEVENT

END:VCALENDAR
