BEGIN:VCALENDAR
VERSION:2.0
PRODID:-//ChamberMaster//Event Calendar 2.0//EN
METHOD:PUBLISH
X-PUBLISHED-TTL:P3D
REFRESH-INTERVAL:P3D
CALSCALE:GREGORIAN
BEGIN:VEVENT
DTSTART:20090501T050000Z
DTEND:20090501T050000Z
X-MICROSOFT-CDO-ALLDAYEVENT:FALSE
SUMMARY:Executives Club-Cynthia Tidwell
DESCRIPTION:Executives Club-Cynthia Tidwell
X-ALT-DESC;FMTTYPE=text/html:Executives Club-Cynthia Tidwell
LOCATION:
UID:e.2843.3665
SEQUENCE:3
DTSTAMP:20260424T090805Z
URL:https://member.quadcitieschamber.com/events/details/executives-club-cynthia-tidwell-05-01-2009-3665
END:VEVENT

END:VCALENDAR
