BEGIN:VCALENDAR
VERSION:2.0
PRODID:-//ChamberMaster//Event Calendar 2.0//EN
METHOD:PUBLISH
X-PUBLISHED-TTL:P3D
REFRESH-INTERVAL:P3D
CALSCALE:GREGORIAN
BEGIN:VEVENT
DTSTART:20090605T050000Z
DTEND:20090605T050000Z
X-MICROSOFT-CDO-ALLDAYEVENT:FALSE
SUMMARY:Executives Club-Doug Hultquist
DESCRIPTION:Executives Club-Doug Hultquist
X-ALT-DESC;FMTTYPE=text/html:Executives Club-Doug Hultquist
LOCATION:
UID:e.2843.3666
SEQUENCE:3
DTSTAMP:20260424T073732Z
URL:https://member.quadcitieschamber.com/events/details/executives-club-doug-hultquist-06-05-2009-3666
END:VEVENT

END:VCALENDAR
