BEGIN:VCALENDAR
VERSION:2.0
PRODID:-//ChamberMaster//Event Calendar 2.0//EN
METHOD:PUBLISH
X-PUBLISHED-TTL:P3D
REFRESH-INTERVAL:P3D
CALSCALE:GREGORIAN
BEGIN:VEVENT
DTSTART:20180504T123000Z
DTEND:20180504T133000Z
X-MICROSOFT-CDO-ALLDAYEVENT:FALSE
SUMMARY:Executives Club featuring Major General Gamble\, Commanding General for the Army Sustainment Command and Senior Mission Commander for the Rock Island Arsenal
DESCRIPTION:Major General Gamble\, Commanding General for the Army Sustainment Command (ASC) and Senior Mission Commander for the Rock Island Arsenal will discuss the complex mission of Army Sustainment Command (ASC) and how wherever the Army is in the world\, ASC is also there. Hear firsthand from MG Gamble on the latest information\, significant projects and exciting developments that are happening at Rock Island Arsenal that benefit the entire Quad Cities region.  \n\n\n\nThis program is exclusively for Presidents\, CEO's and Executives\, register to attend.\n\n\n\n**Cancellation Policy - If you need to cancel your registration\, you must do so more than 72 hours prior to the event date in order to receive a full refund.
X-ALT-DESC;FMTTYPE=text/html:<p><span style="color:#000000\;">Major General Gamble\, Commanding General for the Army Sustainment Command (ASC) and Senior Mission Commander for the Rock Island Arsenal will discuss the complex mission of Army Sustainment Command (ASC) and how wherever the Army is in the world\,&nbsp\;ASC&nbsp\;is also there.&nbsp\;</span><span style="background:white\;"><span style="color:black\;"><span style="font-family:arial\,sans-serif\;"><span style="font-size:10.0pt\;">Hear firsthand from MG&nbsp\;Gamble</span>&nbsp\;on the latest information\,&nbsp\;significant&nbsp\;projects and exciting developments that are happening at Rock Island Arsenal that benefit the entire Quad Cities region.&nbsp\; </span></span></span><br />\n<br />\n<span style="color: rgb(29\, 33\, 41)\; font-family: Helvetica\, Arial\, sans-serif\; font-size: 14px\; white-space: pre-wrap\;">This program is exclusively for Presidents\, CEO&#39\;s and Executives\, register to attend.</span><br />\n<br />\n<strong style="font-size: 16px\;"><span style="font-family: arial\;">**Cancellation&nbsp\;Policy - If you need to cancel your registration\, you must do so more than 72 hours prior to the event date in order to receive a full refund.&nbsp\;</span></strong><span style="font-size: 12px\;"><span style="font-family: arial\;">&nbsp\;</span></span></p>\n\n<div>&nbsp\;</div>\n
LOCATION:Tax Slayer Center 1201 River Drive Moline\, IL 61265
UID:e.2843.8630
SEQUENCE:3
DTSTAMP:20260423T111521Z
URL:https://member.quadcitieschamber.com/events/details/executives-club-featuring-major-general-gamble-commanding-general-for-the-army-sustainment-command-and-senior-mission-commander-for-the-rock-island-arsenal-8630
END:VEVENT

END:VCALENDAR
