BEGIN:VCALENDAR
VERSION:2.0
PRODID:-//ChamberMaster//Event Calendar 2.0//EN
METHOD:PUBLISH
X-PUBLISHED-TTL:P3D
REFRESH-INTERVAL:P3D
CALSCALE:GREGORIAN
BEGIN:VEVENT
DTSTART:20170203T133000Z
DTEND:20170203T143000Z
X-MICROSOFT-CDO-ALLDAYEVENT:FALSE
SUMMARY:Executives Club: Filling the Skilled Workforce Gap (February 2017)
DESCRIPTION:*Online registration will close on Thursday\, February 2nd at 2 p.m. but walk-in's will be accepted at the door.\n\n\n\nThe top need of many businesses is a skilled workforce\, and in the Quad Cities\, the labor industry is successfully training a workforce that feeds our construction industry. Gain an in-depth view at how the labor sector is filling the demand for skilled workers through a panel discussion featuring leaders from the Tri-City Building Trades and determine if there are strategies you can adapt for your own business. \n\n\n\nPanelists:\n\nJerry Lack - Executive Director Tri-City Building Trades\n\nMatt Lienen - Training Coordinator Plumbers & Pipefitters Local 25\n\nBill Lehmann - Training Coordinator Carpenter's Local #4 & #166\n\nAJ Loss - Bush Construction\n\n\n\nRegistration for this event will close at 2pm on Thursday\, February 2nd but walk-in's will still be accepted at the door. Thank you in advance.\n\n \n\n*If you need any special requirements to attend this meeting please contact Megan Lovelady at mlovelady@quadcitieschamber.com*\n\n \n\nIf you are not a current Quad Cities Chamber member and are interested in attending this event\, please contact Gwen Tombergs at (563)823-2688.
X-ALT-DESC;FMTTYPE=text/html:<div style="font-family:Arial\;"><span style="font-size:16px\;"><span style="font-family:arial\;">*Online registration will close on Thursday\, February 2nd at 2 p.m. but walk-in&#39\;s will be accepted at the door.<br />\n<br />\nThe top need of many businesses is a skilled workforce\, and in the Quad Cities\, the labor industry is successfully training a workforce that feeds our construction industry. Gain an in-depth view at how the labor sector is filling the demand for skilled workers through a panel discussion featuring leaders from the Tri-City Building Trades and determine if there are strategies you can adapt for your own business.&nbsp\;<br />\n<br />\n<u>Panelists:</u><br />\nJerry Lack - Executive Director Tri-City Building Trades<br />\nMatt Lienen - Training Coordinator Plumbers &amp\; Pipefitters Local 25<br />\nBill Lehmann - Training Coordinator Carpenter&#39\;s Local #4 &amp\; #166<br />\nAJ Loss - Bush Construction<br />\n<br />\nRegistration for this event will close at 2pm on Thursday\, February 2nd but walk-in&#39\;s will still be accepted at the door. Thank you in advance.<br />\n&nbsp\;<br />\n*If you need any special requirements to attend this meeting please contact Megan Lovelady at <a designtimeurl="mailto:mlovelady@quadcitieschamber.com*" href="mailto:mlovelady@quadcitieschamber.com*"><span style="color:blue\;">mlovelady@quadcitieschamber.com*</span></a><br />\n&nbsp\;<br />\n<strong>If you are not a current Quad Cities Chamber member and are interested in attending this event\, please contact Gwen Tombergs at (563)823-2688.</strong></span></span></div>\n
LOCATION:iWireless Center 1201 River Drive Moline\, IL 61265
UID:e.2843.1352
SEQUENCE:3
DTSTAMP:20260424T070813Z
URL:https://member.quadcitieschamber.com/events/details/executives-club-filling-the-skilled-workforce-gap-february-2017-1352
END:VEVENT

END:VCALENDAR
