BEGIN:VCALENDAR
VERSION:2.0
PRODID:-//ChamberMaster//Event Calendar 2.0//EN
METHOD:PUBLISH
X-PUBLISHED-TTL:P3D
REFRESH-INTERVAL:P3D
CALSCALE:GREGORIAN
BEGIN:VEVENT
DTSTART:20090403T050000Z
DTEND:20090403T050000Z
X-MICROSOFT-CDO-ALLDAYEVENT:FALSE
SUMMARY:Executives Club-Marie Ziegler
DESCRIPTION:Executives Club-Marie Ziegler
X-ALT-DESC;FMTTYPE=text/html:Executives Club-Marie Ziegler
LOCATION:
UID:e.2843.3664
SEQUENCE:3
DTSTAMP:20260424T104529Z
URL:https://member.quadcitieschamber.com/events/details/executives-club-marie-ziegler-04-03-2009-3664
END:VEVENT

END:VCALENDAR
