BEGIN:VCALENDAR
VERSION:2.0
PRODID:-//ChamberMaster//Event Calendar 2.0//EN
METHOD:PUBLISH
X-PUBLISHED-TTL:P3D
REFRESH-INTERVAL:P3D
CALSCALE:GREGORIAN
BEGIN:VEVENT
DTSTART:20170303T133000Z
DTEND:20170303T143000Z
X-MICROSOFT-CDO-ALLDAYEVENT:FALSE
SUMMARY:Executives Club - Mayor Dennis Pauley: Views from Eight Years of Public Service (March 2017)
DESCRIPTION:Mayor Dennis Pauley will reflect back on the last eight years serving the City of Rock Island\, sharing key insights\, major wins and lessons learned. Learn about successful partnerships and how he envisions Chamber members and community leaders can lend support on future initiatives. As the City prepares to transition to new leadership\, hear his unique perspective on opportunities and challenges facing Rock Island and the entire region. \n\n \n\nRegistration for this event will close at 2pm on Thursday\, March 2nd but walk-in's will still be accepted at the door. Thank you in advance.\n\n \n\nIf you need any special requirements to attend this meeting please contact Megan Lovelady at mlovelady@quadcitieschamber.com\n\n\n\nIf you are not a current Quad Cities Chamber member and are interested in attending this event\, please contact Gwen Tombergs at (563)823-2688.\n\n \n\nCancellation Policy:\n\nCancellations must be received at least 72 hours in advance in order to receive a registration refund. You may transfer your registration to another person within your company at no additional cost.
X-ALT-DESC;FMTTYPE=text/html:<div style="font-family:Arial\;"><span style="font-size:16px\;"><span style="font-family:arial\;">Mayor Dennis Pauley will reflect back on the last eight years serving the City of Rock Island\, sharing key insights\, major wins and lessons learned. Learn about successful partnerships and how he envisions Chamber members and community leaders can lend support on future initiatives. As the City prepares to transition to new leadership<span style="color:#1F497D\;">\,</span> hear his unique perspective on opportunities and challenges facing Rock Island and the entire region.&nbsp\;</span></span><br />\n<span style="font-size:16px\;"><span style="font-family:arial\;">&nbsp\;<br />\n<span style="background-image:initial\;background-position:initial\;background-size:initial\;background-repeat:initial\;background-attachment:initial\;background-origin:initial\;background-clip:initial\;">Registration for this event will close at 2pm on Thursday\, March&nbsp\;2nd but walk-in&#39\;s will still be accepted at the door. Thank you in advance.</span><br />\n&nbsp\;<br />\n<span style="background-image:initial\;background-position:initial\;background-size:initial\;background-repeat:initial\;background-attachment:initial\;background-origin:initial\;background-clip:initial\;">If you need any special requirements to attend this meeting please contact Megan&nbsp\;<span data-scayt-lang="en_US" data-scayt-word="Lovelady" style="background-position:52% 100%\;">Lovelady</span></span>&nbsp\;at&nbsp\;<a designtimeurl="mailto:mlovelady@quadcitieschamber.com*" href="mailto:mlovelady@quadcitieschamber.com*"><span data-scayt-lang="en_US" data-scayt-word="mlovelady" style="background-position-x:52%\;background-position-y:100%\;">mlovelady</span><span style="background-image:initial\;background-position:initial\;background-size:initial\;background-repeat:initial\;background-attachment:initial\;background-origin:initial\;background-clip:initial\;">@quadcitieschamber.com</span></a><br />\n<br />\n<strong><span style="background-image:initial\;background-position:initial\;background-size:initial\;background-repeat:initial\;background-attachment:initial\;background-origin:initial\;background-clip:initial\;">If you are not a current Quad Cities Chamber member and are interested in attending this event\, please contact Gwen</span>&nbsp\;<span data-scayt-lang="en_US" data-scayt-word="Tombergs" style="background-position-x:52%\;background-position-y:100%\;">Tombergs</span><span style="background-image:initial\;background-position:initial\;background-size:initial\;background-repeat:initial\;background-attachment:initial\;background-origin:initial\;background-clip:initial\;">&nbsp\;at (563)823-2688.</span></strong><br />\n&nbsp\;<br />\n<u>Cancellation Policy:</u><br />\nCancellations must be received at least 72 hours in advance in order to receive a registration refund. You may transfer your registration to another person within your company at no additional cost.</span></span></div>\n
LOCATION:iWireless Center 1201 River Drive Moline\, IL 61265
UID:e.2843.4523
SEQUENCE:3
DTSTAMP:20260424T060036Z
URL:https://member.quadcitieschamber.com/events/details/executives-club-mayor-dennis-pauley-views-from-eight-years-of-public-service-march-2017-4523
END:VEVENT

END:VCALENDAR
