BEGIN:VCALENDAR
VERSION:2.0
PRODID:-//ChamberMaster//Event Calendar 2.0//EN
METHOD:PUBLISH
X-PUBLISHED-TTL:P3D
REFRESH-INTERVAL:P3D
CALSCALE:GREGORIAN
BEGIN:VEVENT
DTSTART:20170602T123000Z
DTEND:20170602T133000Z
X-MICROSOFT-CDO-ALLDAYEVENT:FALSE
SUMMARY:Executives Club: MidAmerican Energy’s Approach to Economic and Community Development - June 2017
DESCRIPTION:Kathryn Kunert\, Vice President Economic Connections and Integration\, for MidAmerican Energy will provide an overview of the company and its vision for the future. As a leader in renewable energy\, MidAmerican has outlined plans to continue to grow its wind generation capability to provide a vast majority of its customer's electricity from wind energy. Kunert will outline those plans\, provide an update on progress and share insights on how this is an economic driver for the region. Additionally\, she will provide insight MidAmerican's  approach to economic and community development and a new program that will be launched yet this year to directly provide the environmental benefit of its Iowa wind fleet to its customers. Be sure to join us for this interesting update from one of our key business partners.\n\n\n\nThis program is exclusively for Presidents\, CEO's and Executives\, register to attend\n\n**Cancellation Policy - If you need to cancel your registration\, you must do so more than 72 hours prior to the event date in order to receive a full refund.
X-ALT-DESC;FMTTYPE=text/html:<p><span style="font-size:16px\;"><span style="font-family:arial\;">Kathryn Kunert\, Vice President Economic Connections and Integration\, for MidAmerican Energy will provide an overview of the company and its vision for the future. As a leader in renewable energy\, MidAmerican has outlined plans to continue to grow its wind generation capability to provide a vast majority of its customer&rsquo\;s electricity from wind energy. Kunert will outline those plans\, provide an update on progress and share insights on how this is an economic driver for the region. Additionally\, she will provide insight MidAmerican&rsquo\;s &nbsp\;approach to economic and community development and a new program that will be launched yet this year to directly provide the environmental benefit of its Iowa wind fleet to its customers. Be sure to join us for this interesting update from one of our key business partners.</span><br />\n<br />\n<span style="font-family:arial\;"><span style="background-color: rgb(255\, 255\, 255)\; color: rgb(29\, 33\, 41)\; white-space: pre-wrap\;">This program is exclusively for Presidents\, CEO&#39\;s and Executives\, register to attend</span><br style="color: rgb(51\, 51\, 51)\; font-family: sans-serif\, Arial\, Verdana\, &quot\;Trebuchet MS&quot\;\; font-size: 13px\; background-color: rgb(255\, 255\, 255)\;" />\n<strong style="color: rgb(51\, 51\, 51)\; font-family: sans-serif\, Arial\, Verdana\, &quot\;Trebuchet MS&quot\;\; font-size: 16px\; background-color: rgb(255\, 255\, 255)\;">**Cancellation&nbsp\;Policy - If you need to cancel your registration\, you must do so more than 72 hours prior to the event date in order to receive a full refund.&nbsp\;</strong><span style="color: rgb(51\, 51\, 51)\; background-color: rgb(255\, 255\, 255)\;">&nbsp\;</span></span></span></p>\n\n<p><span style="font-size:16px\;"><span style="font-family:arial\;"><span style="color: black\;"><span style="color: black\;"><span style="color: black\;">&nbsp\;</span></span></span></span></span></p>\n
LOCATION:IWireless Center 1201 River Drive Moline\, IL 61265
UID:e.2843.1356
SEQUENCE:3
DTSTAMP:20260424T032046Z
URL:https://member.quadcitieschamber.com/events/details/executives-club-midamerican-energy-s-approach-to-economic-and-community-development-june-2017-1356
END:VEVENT

END:VCALENDAR
