BEGIN:VCALENDAR
VERSION:2.0
PRODID:-//ChamberMaster//Event Calendar 2.0//EN
METHOD:PUBLISH
X-PUBLISHED-TTL:P3D
REFRESH-INTERVAL:P3D
CALSCALE:GREGORIAN
BEGIN:VEVENT
DTSTART:20130906T123000Z
DTEND:20130906T133000Z
X-MICROSOFT-CDO-ALLDAYEVENT:FALSE
SUMMARY:Executives Club: Olympian Matt Stutzman
DESCRIPTION:Though he was born without arms\, Olympian Matt Stutzman certainly wasn't born without a will.  With a goal to be the best archer in the world\, Matt competed at the 2012 London Paralympic Games where he won the Silver Medal as a proud member of the US Para Archery Team. He also holds the world record for the longest accurate archery shot at 230 yards.  Attend Executives Club to hear Matt's stories of seemingly impossible accomplishments\, overcoming countless challenges and his rising to become a Champion.   Why you should attend:Learn how to rethink the way you view your own capabilitiesFind out how to turn seemingly unattainable goals into achievable successes Executives Clubs is a program for CEOs\, Presidents and Executives only.
X-ALT-DESC;FMTTYPE=text/html:<P style="TEXT-ALIGN: left\; TEXT-TRANSFORM: none\; BACKGROUND-COLOR: rgb(255\,255\,255)\; MARGIN-TOP: 0px\; TEXT-INDENT: 0px\; FONT: 13px Tahoma\, Arial\, sans-serif\; WHITE-SPACE: normal\; MARGIN-BOTTOM: 0px\; LETTER-SPACING: normal\; COLOR: rgb(0\,0\,0)\; WORD-SPACING: 0px\; -webkit-text-stroke-width: 0px" _mce_style="margin-top: 0px\; margin-bottom: 0px\;"><SPAN>Though he was born without arms\, Olympian Matt Stutzman certainly wasn't born without a will.&nbsp\;</SPAN></P><P style="TEXT-ALIGN: left\; TEXT-TRANSFORM: none\; BACKGROUND-COLOR: rgb(255\,255\,255)\; MARGIN-TOP: 0px\; TEXT-INDENT: 0px\; FONT: 13px Tahoma\, Arial\, sans-serif\; WHITE-SPACE: normal\; MARGIN-BOTTOM: 0px\; LETTER-SPACING: normal\; COLOR: rgb(0\,0\,0)\; WORD-SPACING: 0px\; -webkit-text-stroke-width: 0px" _mce_style="margin-top: 0px\; margin-bottom: 0px\;">&nbsp\;</P><P style="TEXT-ALIGN: left\; TEXT-TRANSFORM: none\; BACKGROUND-COLOR: rgb(255\,255\,255)\; MARGIN-TOP: 0px\; TEXT-INDENT: 0px\; FONT: 13px Tahoma\, Arial\, sans-serif\; WHITE-SPACE: normal\; MARGIN-BOTTOM: 0px\; LETTER-SPACING: normal\; COLOR: rgb(0\,0\,0)\; WORD-SPACING: 0px\; -webkit-text-stroke-width: 0px" _mce_style="margin-top: 0px\; margin-bottom: 0px\;">With a goal to be the best archer in the world\, Matt<SPAN>&nbsp\;competed at the 2012 </SPAN><SPAN>London Paralympic Games where he won the Silver Medal as<SPAN class=Apple-converted-space>&nbsp\;</SPAN><SPAN>a proud member of the US Para Archery Team</SPAN>. He also holds the world record for the longest accurate archery shot at 230 yards.&nbsp\;</SPAN></P><P style="TEXT-ALIGN: left\; TEXT-TRANSFORM: none\; BACKGROUND-COLOR: rgb(255\,255\,255)\; MARGIN-TOP: 0px\; TEXT-INDENT: 0px\; FONT: 13px Tahoma\, Arial\, sans-serif\; WHITE-SPACE: normal\; MARGIN-BOTTOM: 0px\; LETTER-SPACING: normal\; COLOR: rgb(0\,0\,0)\; WORD-SPACING: 0px\; -webkit-text-stroke-width: 0px" _mce_style="margin-top: 0px\; margin-bottom: 0px\;"><SPAN></SPAN>&nbsp\;</P><P style="TEXT-ALIGN: left\; TEXT-TRANSFORM: none\; BACKGROUND-COLOR: rgb(255\,255\,255)\; MARGIN-TOP: 0px\; TEXT-INDENT: 0px\; FONT: 13px Tahoma\, Arial\, sans-serif\; WHITE-SPACE: normal\; MARGIN-BOTTOM: 0px\; LETTER-SPACING: normal\; COLOR: rgb(0\,0\,0)\; WORD-SPACING: 0px\; -webkit-text-stroke-width: 0px" _mce_style="margin-top: 0px\; margin-bottom: 0px\;"><SPAN>Attend Executives Club to hear Matt's stories of seemingly impossible accomplishments\, overcoming countless challenges and his rising to become a Champion.&nbsp\;</SPAN>&nbsp\;</P><P style="TEXT-ALIGN: left\; TEXT-TRANSFORM: none\; BACKGROUND-COLOR: rgb(255\,255\,255)\; MARGIN-TOP: 0px\; TEXT-INDENT: 0px\; FONT: 13px Tahoma\, Arial\, sans-serif\; WHITE-SPACE: normal\; MARGIN-BOTTOM: 0px\; LETTER-SPACING: normal\; COLOR: rgb(0\,0\,0)\; WORD-SPACING: 0px\; -webkit-text-stroke-width: 0px" _mce_style="margin-top: 0px\; margin-bottom: 0px\;">&nbsp\;</P><P style="TEXT-ALIGN: left\; TEXT-TRANSFORM: none\; BACKGROUND-COLOR: rgb(255\,255\,255)\; MARGIN-TOP: 0px\; TEXT-INDENT: 0px\; FONT: 13px Tahoma\, Arial\, sans-serif\; WHITE-SPACE: normal\; MARGIN-BOTTOM: 0px\; LETTER-SPACING: normal\; COLOR: rgb(0\,0\,0)\; WORD-SPACING: 0px\; -webkit-text-stroke-width: 0px" _mce_style="margin-top: 0px\; margin-bottom: 0px\;">Why you should attend:</P><UL style="TEXT-ALIGN: left\; TEXT-TRANSFORM: none\; BACKGROUND-COLOR: rgb(255\,255\,255)\; TEXT-INDENT: 0px\; FONT: 13px Tahoma\, Arial\, sans-serif\; WHITE-SPACE: normal\; LETTER-SPACING: normal\; COLOR: rgb(0\,0\,0)\; WORD-SPACING: 0px\; -webkit-text-stroke-width: 0px"><LI style="MARGIN-TOP: 0px\; MARGIN-BOTTOM: 0px" _mce_style="margin-top: 0px\; margin-bottom: 0px\;">Learn how to rethink the way you view your own capabilities</LI><LI style="MARGIN-TOP: 0px\; MARGIN-BOTTOM: 0px" _mce_style="margin-top: 0px\; margin-bottom: 0px\;">Find out how to turn seemingly unattainable goals into achievable successes<SPAN style="FONT-SIZE: 10pt" _mce_style="font-size: 10pt\;">&nbsp\;</SPAN></LI></UL><SPAN style="FONT-SIZE: 10pt" _mce_style="font-size: 10pt\;"><P style="MARGIN: 0in 0in 0pt"><EM><SPAN style="COLOR: black\; FONT-SIZE: 10pt"><FONT face="Times New Roman">Executives Clubs is a program for CEOs\, Presidents and Executives only. &nbsp\;</FONT></SPAN></EM><SPAN style="FONT-FAMILY: 'Tahoma'\,'sans-serif'\; COLOR: black\; FONT-SIZE: 10pt"><?xml:namespace prefix = o ns = "urn:schemas-microsoft-com:office:office" /><o:p></o:p></SPAN></P></SPAN>
LOCATION:iWireless Center1201 River Drive Moline\, IL 612651303
UID:e.2843.670
SEQUENCE:3
DTSTAMP:20260421T184316Z
URL:https://member.quadcitieschamber.com/events/details/executives-club-olympian-matt-stutzman-09-06-2013-670
END:VEVENT

END:VCALENDAR
