BEGIN:VCALENDAR
VERSION:2.0
PRODID:-//ChamberMaster//Event Calendar 2.0//EN
METHOD:PUBLISH
X-PUBLISHED-TTL:P3D
REFRESH-INTERVAL:P3D
CALSCALE:GREGORIAN
BEGIN:VEVENT
DTSTART:20091204T060000Z
DTEND:20091204T060000Z
X-MICROSOFT-CDO-ALLDAYEVENT:FALSE
SUMMARY:Executives Club - PAY AT DOOR
DESCRIPTION:Executives Club - PAY AT DOOR
X-ALT-DESC;FMTTYPE=text/html:Executives Club - PAY AT DOOR
LOCATION:
UID:e.2843.3757
SEQUENCE:3
DTSTAMP:20260424T104552Z
URL:https://member.quadcitieschamber.com/events/details/executives-club-pay-at-door-12-04-2009-3757
END:VEVENT

END:VCALENDAR
