BEGIN:VCALENDAR
VERSION:2.0
PRODID:-//ChamberMaster//Event Calendar 2.0//EN
METHOD:PUBLISH
X-PUBLISHED-TTL:P3D
REFRESH-INTERVAL:P3D
CALSCALE:GREGORIAN
BEGIN:VEVENT
DTSTART:20091204T060000Z
DTEND:20091204T060000Z
X-MICROSOFT-CDO-ALLDAYEVENT:FALSE
SUMMARY:Executives Club Prepaid - Daniel Portes
DESCRIPTION:Executives Club Prepaid - Daniel Portes
X-ALT-DESC;FMTTYPE=text/html:Executives Club Prepaid - Daniel Portes
LOCATION:
UID:e.2843.3747
SEQUENCE:3
DTSTAMP:20260424T104554Z
URL:https://member.quadcitieschamber.com/events/details/executives-club-prepaid-daniel-portes-12-04-2009-3747
END:VEVENT

END:VCALENDAR
