BEGIN:VCALENDAR
VERSION:2.0
PRODID:-//ChamberMaster//Event Calendar 2.0//EN
METHOD:PUBLISH
X-PUBLISHED-TTL:P3D
REFRESH-INTERVAL:P3D
CALSCALE:GREGORIAN
BEGIN:VEVENT
DTSTART:20091002T050000Z
DTEND:20091002T050000Z
X-MICROSOFT-CDO-ALLDAYEVENT:FALSE
SUMMARY:Executives Club Prepaid - David Green\, MVRBC
DESCRIPTION:Executives Club Prepaid - David Green\, MVRBC
X-ALT-DESC;FMTTYPE=text/html:Executives Club Prepaid - David Green\, MVRBC
LOCATION:
UID:e.2843.3745
SEQUENCE:3
DTSTAMP:20260424T073821Z
URL:https://member.quadcitieschamber.com/events/details/executives-club-prepaid-david-green-mvrbc-10-02-2009-3745
END:VEVENT

END:VCALENDAR
