BEGIN:VCALENDAR
VERSION:2.0
PRODID:-//ChamberMaster//Event Calendar 2.0//EN
METHOD:PUBLISH
X-PUBLISHED-TTL:P3D
REFRESH-INTERVAL:P3D
CALSCALE:GREGORIAN
BEGIN:VEVENT
DTSTART:20090904T050000Z
DTEND:20090904T050000Z
X-MICROSOFT-CDO-ALLDAYEVENT:FALSE
SUMMARY:Executives Club Prepaid-Dr. Al Goldfarb
DESCRIPTION:Executives Club Prepaid-Dr. Al Goldfarb
X-ALT-DESC;FMTTYPE=text/html:Executives Club Prepaid-Dr. Al Goldfarb
LOCATION:
UID:e.2843.3744
SEQUENCE:3
DTSTAMP:20260424T061512Z
URL:https://member.quadcitieschamber.com/events/details/executives-club-prepaid-dr-al-goldfarb-09-04-2009-3744
END:VEVENT

END:VCALENDAR
