BEGIN:VCALENDAR
VERSION:2.0
PRODID:-//ChamberMaster//Event Calendar 2.0//EN
METHOD:PUBLISH
X-PUBLISHED-TTL:P3D
REFRESH-INTERVAL:P3D
CALSCALE:GREGORIAN
BEGIN:VEVENT
DTSTART:20130802T123000Z
DTEND:20130802T133000Z
X-MICROSOFT-CDO-ALLDAYEVENT:FALSE
SUMMARY:Executives Club: ''Revitalization of Arts & Culture and Quality of Life in the Quad Cities
DESCRIPTION:Revitalization of Arts & Culture and Quality of Life in the Quad Cities  Carmen Darland\, Executive Director\, Quad City Arts  Transitioning from private business to the not-for-profit world during an economic downturn can be a challenge even for the most seasoned executive. Hear how Carmen has leveraged savvy marketing skills to revitalize Quad City Arts and provide leadership to our regions’ tourism efforts\, arts and culture organizations and quality of life initiatives.  Why you should attend: Find out what really matters in marketing strategies. Learn what’s new and innovative in the Quad Cities arts and culture arena. Recognized as one of the top women leaders in our region and a 2012 Athena Award Honoree
X-ALT-DESC;FMTTYPE=text/html:<DIV><P style="TEXT-ALIGN: center\; MARGIN: 0in 0in 0pt" align=left><B><SPAN style="FONT-FAMILY: 'Tahoma'\,'sans-serif'\; FONT-SIZE: 14pt">Revitalization of Arts &amp\; Culture and </SPAN></B><B><SPAN style="FONT-FAMILY: 'Tahoma'\,'sans-serif'\; FONT-SIZE: 14pt">Quality of Life in the Quad Cities </SPAN></B><SPAN style="FONT-FAMILY: 'Tahoma'\,'sans-serif'\; FONT-SIZE: 14pt"><?xml:namespace prefix = o ns = "urn:schemas-microsoft-com:office:office" /><o:p></o:p></SPAN></P><P style="TEXT-ALIGN: center\; MARGIN: 0in 0in 0pt" align=left><B><SPAN style="FONT-FAMILY: 'Tahoma'\,'sans-serif'\; FONT-SIZE: 14pt">&nbsp\;</SPAN></B><SPAN style="FONT-FAMILY: 'Tahoma'\,'sans-serif'\; FONT-SIZE: 14pt"><o:p></o:p></SPAN></P><P style="TEXT-ALIGN: center\; MARGIN: 0in 0in 0pt" align=left><EM><B><SPAN style="FONT-FAMILY: 'Tahoma'\,'sans-serif'\; FONT-SIZE: 11pt">Carmen Darland\, Executive Director\, Quad City Arts </SPAN></B></EM><SPAN style="FONT-FAMILY: 'Tahoma'\,'sans-serif'\; FONT-SIZE: 11pt"><o:p></o:p></SPAN></P><P style="TEXT-ALIGN: center\; MARGIN: 0in 0in 0pt" align=center><SPAN style="FONT-FAMILY: 'Arial'\,'sans-serif'\; COLOR: black">&nbsp\;<o:p></o:p></SPAN></P><P style="MARGIN: 0in 0in 0pt"><SPAN style="FONT-FAMILY: 'Tahoma'\,'sans-serif'">Transitioning from private business to the not-for-profit world during an economic downturn can be a challenge even for the most seasoned executive. Hear how Carmen has leveraged savvy marketing skills to revitalize Quad City Arts and provide leadership to our regions’ tourism efforts\, arts and culture organizations and quality of life initiatives. <o:p></o:p></SPAN></P><P style="MARGIN: 0in 0in 0pt"><SPAN style="FONT-FAMILY: 'Tahoma'\,'sans-serif'">&nbsp\;<o:p></o:p></SPAN></P><P style="MARGIN: 0in 0in 0pt"><STRONG><SPAN style="FONT-FAMILY: 'Tahoma'\,'sans-serif'">Why you should attend:&nbsp\;</SPAN></STRONG><SPAN style="FONT-FAMILY: 'Tahoma'\,'sans-serif'"><o:p></o:p></SPAN></P><UL type=disc><LI style="MARGIN: 0in 0in 0pt\; mso-margin-top-alt: auto\; mso-margin-bottom-alt: auto\; mso-list: l0 level1 lfo1\; tab-stops: list .5in" class=MsoNormal><SPAN style="FONT-FAMILY: 'Tahoma'\,'sans-serif'">Find out what really matters in marketing strategies. <o:p></o:p></SPAN></LI><LI style="MARGIN: 0in 0in 0pt\; mso-margin-top-alt: auto\; mso-margin-bottom-alt: auto\; mso-list: l0 level1 lfo1\; tab-stops: list .5in" class=MsoNormal><SPAN style="FONT-FAMILY: 'Tahoma'\,'sans-serif'">Learn what’s new and innovative in the Quad Cities arts and culture arena. <o:p></o:p></SPAN></LI><LI style="MARGIN: 0in 0in 0pt\; mso-margin-top-alt: auto\; mso-margin-bottom-alt: auto\; mso-list: l0 level1 lfo1\; tab-stops: list .5in" class=MsoNormal><SPAN style="FONT-FAMILY: 'Tahoma'\,'sans-serif'">Recognized as one of the top women leaders in our region and a 2012 Athena Award Honoree <o:p></o:p></SPAN></LI></UL></DIV>
LOCATION:i wireless Center1201 River Drive Moline\, IL 612651303
UID:e.2843.574
SEQUENCE:3
DTSTAMP:20260421T171547Z
URL:https://member.quadcitieschamber.com/events/details/executives-club-revitalization-of-arts-culture-and-quality-of-life-in-the-quad-cities-08-02-2013-574
END:VEVENT

END:VCALENDAR
