BEGIN:VCALENDAR
VERSION:2.0
PRODID:-//ChamberMaster//Event Calendar 2.0//EN
METHOD:PUBLISH
X-PUBLISHED-TTL:P3D
REFRESH-INTERVAL:P3D
CALSCALE:GREGORIAN
BEGIN:VEVENT
DTSTART:20180601T123000Z
DTEND:20180601T133000Z
X-MICROSOFT-CDO-ALLDAYEVENT:FALSE
SUMMARY:Executives Club - State of Entrepreneurship in the Quad Cities
DESCRIPTION:A thriving entrepreneurial ecosystem is central to a growing economy and to attracting talent. In this panel discussion\, local entrepreneurs will share thoughts about the regional entrepreneurial culture\, distinct areas of opportunity for entrepreneurial growth\, and ways the community at large can support start-up growth.\n\n\n\nPanel:\n\nMonte Bottens\, Founding Principal - Riverbend Angels\n\nSteve Grubbs\, CEO & Co-Founder - VictoryVR\n\nBrendan Iglehart\, Founder   AltSTATES Travel\n\nKatie Wilson\, Founder & CEO   TapOnIt\n\n Ambar & Juan Ortiz\, Founders- A&J Construction\n\n\n\n\n\nFacilitated by Julie Forsythe\, Vice President\, Entrepreneurship & Innovation   Quad Cities Chamber\n\n\n\n\n\nThis program is exclusively for Presidents\, CEO's and Executives\, register to attend\n\n\n\n**Cancellation Policy - If you need to cancel your registration\, you must do so more than 72 hours prior to the event date in order to receive a full refund.
X-ALT-DESC;FMTTYPE=text/html:<p><br />\n<span style="font-family:arial\;"><span style="font-size:16px\;">A thriving entrepreneurial ecosystem is central to a growing economy and to attracting talent. In this panel discussion\, local entrepreneurs will share thoughts about the regional entrepreneurial culture\, distinct areas of opportunity for entrepreneurial growth\, and ways the community at large can support start-up growth.</span><br />\n<br />\n<strong><u><span style="font-size:16px\;">Panel:</span></u></strong><br />\n<span style="font-size:16px\;">Monte Bottens\, Founding Principal - Riverbend Angels<br />\nSteve Grubbs\, CEO &amp\; Co-Founder - VictoryVR<br />\nBrendan Iglehart\, Founder &ndash\; AltSTATES Travel<br />\nKatie Wilson\, Founder &amp\; CEO &ndash\; TapOnIt<br />\n&#8203\;Ambar&nbsp\;&amp\; Juan Ortiz\, Founders- A&amp\;J Construction</span><br />\n<br />\n<br />\n<span style="font-size:16px\;">Facilitated by Julie Forsythe\, Vice President\, Entrepreneurship &amp\; Innovation &ndash\; Quad Cities Chamber<br />\n<br />\n<br />\n<span style="color: rgb(29\, 33\, 41)\; white-space: pre-wrap\;"><strong>This program is exclusively for Presidents\, CEO&#39\;s and Executives\, register to attend</strong></span></span><br />\n<br />\n<span style="color:#FF0000\;"><strong style="font-size: 16px\;">**Cancellation&nbsp\;Policy - If you need to cancel your registration\, you must do so more than 72 hours prior to the event date in order to receive a full refund.&nbsp\;</strong><span style="font-size: 12px\;">&nbsp\;</span></span></span></p>\n\n<div>&nbsp\;</div>\n
LOCATION:Tax Slayer Center 1201 River Drive Moline\, IL 61265
UID:e.2843.8631
SEQUENCE:3
DTSTAMP:20260423T092705Z
URL:https://member.quadcitieschamber.com/events/details/executives-club-state-of-entrepreneurship-in-the-quad-cities-8631
END:VEVENT

END:VCALENDAR
