BEGIN:VCALENDAR
VERSION:2.0
PRODID:-//ChamberMaster//Event Calendar 2.0//EN
METHOD:PUBLISH
X-PUBLISHED-TTL:P3D
REFRESH-INTERVAL:P3D
CALSCALE:GREGORIAN
BEGIN:VEVENT
DTSTART:20180803T123000Z
DTEND:20180803T133000Z
X-MICROSOFT-CDO-ALLDAYEVENT:FALSE
SUMMARY:Executives Club: State of Youth in America and Our Role to Ensure Great Futures
DESCRIPTION:Executives Club: State of Youth in America and Our Role to Ensure Great Futures\n\nFeaturing: Jim Clark\, President and CEO\, Boys & Girls Clubs of America\n\n \n\nAs the President & CEO of Boys and Girls Clubs of America\, Jim Clark leads a network of 4\,400 Clubs that serve 4 million young people annually in all 50 states and on U.S. military installations across the globe. Since joining BGCA in 2012\, Clark has spearheaded a major restructuring and the launch of a new strategic direction\, the Great Futures Impact Plan. Through this plan\, Clubs are increasing their impact on youth by focusing on academic success\, character and citizenship\, and healthy lifestyles.\n\n \n\nAs the Quad Cities community works to develop a talent pipeline and ensure that young people are equipped to fill jobs of tomorrow\, Clark will talk about national trends among youth and the role individuals play in ensuring the next generation is prepared for jobs and leadership.\n\n\n\n\n\nThis program is exclusively for Presidents\, CEO's and Executives\, register to attend\n\n\n\n**Cancellation Policy - If you need to cancel your registration\, you must do so more than 72 hours prior to the event date in order to receive a full refund.
X-ALT-DESC;FMTTYPE=text/html:<p><span style="font-size:18px\;"><span style="font-family:arial\;">Executives Club: State of Youth in America and Our Role to Ensure Great Futures<br />\nFeaturing: Jim Clark\, President and CEO\, Boys &amp\; Girls Clubs of America<br />\n&nbsp\;<br />\nAs the President &amp\; CEO of Boys and Girls Clubs of America\, Jim Clark leads a network of 4\,400 Clubs that serve 4 million young people annually in all 50 states and on U.S. military installations across the globe. Since joining BGCA in 2012\, Clark has spearheaded a major restructuring and the launch of a new strategic direction\, the Great Futures Impact Plan. Through this plan\, Clubs are increasing their impact on youth by focusing on academic success\, character and citizenship\, and healthy lifestyles.<br />\n&nbsp\;<br />\nAs the Quad Cities community works to develop a talent pipeline and ensure that young people are equipped to fill jobs of tomorrow\, Clark will talk about national trends among youth and the role individuals play in ensuring the next generation is prepared for jobs and leadership.</span></span><br />\n<br />\n<br />\n<span style="color: rgb(29\, 33\, 41)\; font-family: Helvetica\, Arial\, sans-serif\; font-size: 14px\; white-space: pre-wrap\;">This program is exclusively for Presidents\, CEO&#39\;s and Executives\, register to attend</span><br />\n<br />\n<strong style="font-size: 16px\;"><span style="font-family: arial\;">**Cancellation&nbsp\;Policy - If you need to cancel your registration\, you must do so more than 72 hours prior to the event date in order to receive a full refund.&nbsp\;</span></strong><span style="font-size: 12px\;"><span style="font-family: arial\;">&nbsp\;</span></span></p>\n\n<div>&nbsp\;</div>\n
LOCATION:Tax Slayer Center 1201 River Drive Moline\, IL 61265
UID:e.2843.8633
SEQUENCE:3
DTSTAMP:20260423T062700Z
URL:https://member.quadcitieschamber.com/events/details/executives-club-state-of-youth-in-america-and-our-role-to-ensure-great-futures-8633
END:VEVENT

END:VCALENDAR
