BEGIN:VCALENDAR
VERSION:2.0
PRODID:-//ChamberMaster//Event Calendar 2.0//EN
METHOD:PUBLISH
X-PUBLISHED-TTL:P3D
REFRESH-INTERVAL:P3D
CALSCALE:GREGORIAN
BEGIN:VEVENT
DTSTART:20130607T123000Z
DTEND:20130607T133000Z
X-MICROSOFT-CDO-ALLDAYEVENT:FALSE
SUMMARY:Executives Club: '' The New Iowa Supreme Court''
DESCRIPTION:" The New Iowa Supreme Court - Changes Affecting the Business Climate" Hon. Thomas D. Waterman Justice\, Iowa Supreme Court Join Iowa Supreme Court Justice Waterman in a conversation on how court changes can and are affecting the business climate.Justice Waterman\, who brings the perspective of over a quarter century of civil litigation experience\, will highlight changes on the court and new initiatives. He will describe the court's use of precedent in fostering the predictability\, stability and certainty in the rule of law so important to business relationships. Why You Should Attend:  Insights from a Quad Cities native who has become one of only seven individuals who has the final word on Iowa law Hear how the court is becoming more important to business  Network with our region’s CEOs\, Executives\, Entrepreneurs and Business Owners
X-ALT-DESC;FMTTYPE=text/html:<P style="FONT-FAMILY: Arial" align=left></P><B><P style="FONT-FAMILY: Arial" align=center><FONT face=Tahoma>" The New Iowa Supreme Court - Changes Affecting the Business Climate" </FONT></P></B><P style="FONT-FAMILY: Arial" align=center><FONT face=Tahoma>Hon. Thomas D. Waterman </FONT><FONT face=Tahoma>Justice\, Iowa Supreme Court </FONT></P><P style="FONT-FAMILY: Arial" align=center><FONT face=Tahoma>Join Iowa Supreme Court Justice Waterman in a conversation on how court changes can and are affecting the business climate.</FONT></P><P style="FONT-FAMILY: Arial" align=left><FONT face=Tahoma>Justice Waterman\, who brings the perspective of over a quarter century of civil litigation experience\, will highlight changes on the court and new initiatives. He will describe the court's use of precedent in fostering the predictability\, stability and certainty in the rule of law so important to business relationships. </FONT></P><B><P style="FONT-FAMILY: Arial" align=center><FONT size=2 face=Tahoma>Why You Should Attend: </FONT></P></B><FONT lang=ZH-TW><FONT lang=ZH-TW><UL><LI><DIV style="FONT-FAMILY: Arial" align=center><FONT size=2 face=Tahoma>&nbsp\;</FONT></FONT></FONT><FONT size=2 face=Tahoma>Insights from a Quad Cities native who has become one of only seven individuals who has the final word on Iowa law&nbsp\;</FONT></DIV><LI><DIV style="FONT-FAMILY: Arial" align=center><FONT size=2 face=Tahoma>Hear how the court is becoming more important to business&nbsp\;</FONT></DIV><LI><DIV style="FONT-FAMILY: Arial" align=center><FONT size=2><FONT lang=ZH-TW><FONT lang=ZH-TW><FONT face=Tahoma>&nbsp\;</FONT></FONT></FONT><FONT face=Tahoma>Network with our region’s CEOs\, Executives\, Entrepreneurs and Business Owners </FONT></FONT></DIV></LI></UL><P style="FONT-FAMILY: Arial" align=center><FONT size=2><FONT face=Tahoma>&nbsp\;</P></FONT></FONT>
LOCATION:i wireless Center1201 River Drive Moline\, IL 612651303
UID:e.2843.573
SEQUENCE:3
DTSTAMP:20260421T135105Z
URL:https://member.quadcitieschamber.com/events/details/executives-club-the-new-iowa-supreme-court-06-07-2013-573
END:VEVENT

END:VCALENDAR
