BEGIN:VCALENDAR
VERSION:2.0
PRODID:-//ChamberMaster//Event Calendar 2.0//EN
METHOD:PUBLISH
X-PUBLISHED-TTL:P3D
REFRESH-INTERVAL:P3D
CALSCALE:GREGORIAN
BEGIN:VEVENT
DTSTART:20181102T123000Z
DTEND:20181102T133000Z
X-MICROSOFT-CDO-ALLDAYEVENT:FALSE
SUMMARY:Executives Club: Using the Power of Artificial Intelligence to Engage Your Audience Featuring Tarek Kamil\, Founder\, Cerkl
DESCRIPTION:How do Amazon\, Netflix\, and Hulu engage their customers\, and how can your business do the same? Spoiler alert: They're using artificial intelligence\, and you can too.\n\n \n\nTarek Kamil is an entrepreneur who is passionate about creating value by using big data and artificial intelligence. Through Cerkl\, he has helped companies incorporate machine learning\, behavioral analytics and personalization into their customer acquisition and engagement strategies. Tarek will break down how technologies like AI can have a place in just about any business\, and how your company can meet the ever-changing expectations of customers using machine learning.\n\n\n\n \nAbout the speaker:\n\nTarek Kamil is passionate about creating value in the world using big data and AI. Cerkl\, uses behavioral analytics\, machine learning and personalization to bring "intelligence" to the ever-growing flood of content being created. People are overwhelmed\, Cerkl delivers the content they want via email\, web and mobile -- so you don't have to guess. Using AI to both increase engagement and save time.\n\n\n\nPrior to Cerkl\, Kamil served as Executive Director of Online Strategies for InfoMotion Sports (IST). IST brought together IoT\, big data and AI to create "smart" sports equipment - providing realtime\, personalized prescriptive feedback to athletes.\n\n\n\nPrior to IST\, Kamil served as a VP of Interactive Games for Los Angeles-based FOX Sports where he oversaw all facets of the online gaming operations for the FoxSports.com Interactive Unit\, including WhatIfSports.com based in Cincinnati. \n\n\n\nHe founded WhatIfSports.com (WIS) in February\, 2000 and sold it to FOX Interactive Media in September\, 2005. WIS was a platform based on using AI and statistical modeling to power sports simulations. \n\n\n\nKamil has also been named as a finalist for the Ernst & Young Entrepreneur of the Year Award.\nThis program is exclusively for Presidents\, CEO's and Executives\, register to attend\n\n\n\n**Cancellation Policy - If you need to cancel your registration\, you must do so more than 72 hours prior to the event date in order to receive a full refund.
X-ALT-DESC;FMTTYPE=text/html:<span style="font-size:16px\;"><span style="font-family:arial\;">How do Amazon\, Netflix\, and Hulu engage their customers\, and how can your business do the same? Spoiler alert: They&rsquo\;re using artificial intelligence\, and you can too.<br />\n&nbsp\;<br />\nTarek Kamil is an entrepreneur who is passionate about creating value by using big data and artificial intelligence. Through Cerkl\, he has helped companies incorporate machine learning\, behavioral analytics and personalization into their customer acquisition and engagement strategies. Tarek will break down how technologies like AI can have a place in just about any business\, and how your company can meet the ever-changing expectations of customers using machine learning.</span></span><br />\n<br />\n&nbsp\;\n<p style="margin: 0px 0px 1.5em\; padding: 0px\; border: 0px\; outline: 0px\; font-size: 12px\; font-family: Arial\, &quot\;Helvetica Neue&quot\;\, Helvetica\, sans-serif\; vertical-align: baseline\; line-height: 1.5\;"><span style="font-size:14px\;"><span style="font-family:arial\;"><strong>About the speaker:</strong></span></span><br />\n<span style="font-family: arial\; font-size: 16px\; background-image: initial\; background-position: initial\; background-size: initial\; background-repeat: initial\; background-attachment: initial\; background-origin: initial\; background-clip: initial\;">Tarek Kamil is passionate about creating value in the world using big data and AI. Cerkl\, uses behavioral analytics\, machine learning and personalization to bring &quot\;intelligence&quot\; to the ever-growing flood of content being created. People are overwhelmed\, Cerkl delivers the content they want via email\, web and mobile -- so you don&#39\;t have to guess. Using AI to both increase engagement and save time.</span><br style="font-family: arial\; font-size: 16px\;" />\n<br style="font-family: arial\; font-size: 16px\;" />\n<span style="font-family: arial\; font-size: 16px\; background-image: initial\; background-position: initial\; background-size: initial\; background-repeat: initial\; background-attachment: initial\; background-origin: initial\; background-clip: initial\;">Prior to Cerkl\, Kamil served as Executive Director of Online Strategies for InfoMotion Sports (IST). IST brought together IoT\, big data and AI to create &quot\;smart&quot\; sports equipment - providing realtime\, personalized prescriptive feedback to athletes.</span><br style="font-family: arial\; font-size: 16px\;" />\n<br style="font-family: arial\; font-size: 16px\;" />\n<span style="font-family: arial\; font-size: 16px\; background-image: initial\; background-position: initial\; background-size: initial\; background-repeat: initial\; background-attachment: initial\; background-origin: initial\; background-clip: initial\;">Prior to IST\, Kamil served as a VP of Interactive Games for Los Angeles-based FOX Sports where he oversaw all facets of the online gaming operations for the FoxSports.com Interactive Unit\, including WhatIfSports.com based in Cincinnati.&nbsp\;</span><br style="font-family: arial\; font-size: 16px\;" />\n<br style="font-family: arial\; font-size: 16px\;" />\n<span style="font-family: arial\; font-size: 16px\; background-image: initial\; background-position: initial\; background-size: initial\; background-repeat: initial\; background-attachment: initial\; background-origin: initial\; background-clip: initial\;">He founded WhatIfSports.com (WIS) in February\, 2000 and sold it to FOX Interactive Media in September\, 2005. WIS was a platform based on using AI and statistical modeling to power sports simulations.&nbsp\;</span><br style="font-family: arial\; font-size: 16px\;" />\n<br style="font-family: arial\; font-size: 16px\;" />\n<span style="font-family: arial\; font-size: 16px\; background-image: initial\; background-position: initial\; background-size: initial\; background-repeat: initial\; background-attachment: initial\; background-origin: initial\; background-clip: initial\;">Kamil has also been named as a finalist for the Ernst &amp\; Young Entrepreneur of the Year Award.</span></p>\n<span style="color: rgb(29\, 33\, 41)\; font-family: Helvetica\, Arial\, sans-serif\; font-size: 14px\; white-space: pre-wrap\;">This program is exclusively for Presidents\, CEO&#39\;s and Executives\, register to attend</span><br />\n<br />\n<strong style="font-size: 16px\;"><span style="font-family: arial\;">**Cancellation&nbsp\;Policy - If you need to cancel your registration\, you must do so more than 72 hours prior to the event date in order to receive a full refund.&nbsp\;</span></strong>
LOCATION:Tax Slayer Center 1201 River Drive Moline\, IL 61265
UID:e.2843.8636
SEQUENCE:3
DTSTAMP:20260423T014827Z
URL:https://member.quadcitieschamber.com/events/details/executives-club-using-the-power-of-artificial-intelligence-to-engage-your-audience-featuring-tarek-kamil-founder-cerkl-8636
END:VEVENT

END:VCALENDAR
