BEGIN:VCALENDAR
VERSION:2.0
PRODID:-//ChamberMaster//Event Calendar 2.0//EN
METHOD:PUBLISH
X-PUBLISHED-TTL:P3D
REFRESH-INTERVAL:P3D
CALSCALE:GREGORIAN
BEGIN:VEVENT
DTSTART:20131107T180000Z
DTEND:20131107T183000Z
X-MICROSOFT-CDO-ALLDAYEVENT:FALSE
SUMMARY:Exotic Imports 20 Year Anniversary Ribbon Cutting
DESCRIPTION:Please join Exotic Imports in celebrating their 20th year anniversary on Thursday\, November 7th at 12:00pm – Located at 4500 16th Street Moline\, IL 61256 (Corner of 16th St. and John Deere Expressway). http://mapq.st/18StH6L.                          Since 1993\, Exotic Imports has been a premier provider of high-quality handcrafted artifacts to local shoppers.  Throughout the store\, you can experience a large assortment of items that are imported from the world over.  Focusing on quality and value\, Exotic Imports looks to captivate you through interesting items and descriptions that give you insight into why\, where and how these items are made.   For more information please visit www.shopsouthparkmall-il.com.
X-ALT-DESC;FMTTYPE=text/html:<P style="MARGIN: 0in 0in 0pt" class=MsoNormal><FONT face=Calibri>Please join Exotic Imports in celebrating their 20<SUP>th</SUP> year anniversary on Thursday\, November 7<SUP>th</SUP> at 12:00pm – Located at 4500 16<SUP>th</SUP> Street Moline\, IL 61256 (Corner of 16<SUP>th</SUP> St. and John Deere Expressway). </FONT><A href="http://mapq.st/18StH6L">http://mapq.st/18StH6L</A><FONT face=Calibri>.<SPAN style="mso-spacerun: yes">&nbsp\; </SPAN><?xml:namespace prefix = o ns = "urn:schemas-microsoft-com:office:office" /><o:p></o:p></FONT></P><P style="MARGIN: 0in 0in 0pt\; tab-stops: 54.75pt" class=MsoNormal><FONT face=Calibri><SPAN style="mso-tab-count: 1">&nbsp\;&nbsp\;&nbsp\;&nbsp\;&nbsp\;&nbsp\;&nbsp\;&nbsp\;&nbsp\;&nbsp\;&nbsp\;&nbsp\;&nbsp\;&nbsp\;&nbsp\;&nbsp\;&nbsp\;&nbsp\;&nbsp\;&nbsp\;&nbsp\;&nbsp\;&nbsp\; </SPAN><o:p></o:p></FONT></P><P style="MARGIN: 0in 0in 0pt" class=MsoNormal><FONT face=Calibri>Since 1993\, Exotic Imports has been a premier provider of high-quality handcrafted artifacts to local shoppers.<SPAN style="mso-spacerun: yes">&nbsp\; </SPAN>Throughout the store\, you can experience a large assortment of items that are imported from the world over.<SPAN style="mso-spacerun: yes">&nbsp\; </SPAN>Focusing on quality and value\, Exotic Imports looks to captivate you through interesting items and descriptions that give you insight into why\, where and how these items are made.<SPAN style="mso-spacerun: yes">&nbsp\; </SPAN><o:p></o:p></FONT></P><P style="MARGIN: 0in 0in 0pt" class=MsoNormal><o:p><FONT face=Calibri>&nbsp\;</FONT></o:p></P><P style="MARGIN: 0in 0in 0pt" class=MsoNormal><FONT face=Calibri>For more information please visit </FONT><A href="http://www.shopsouthparkmall-il.com">www.shopsouthparkmall-il.com</A><FONT face=Calibri>.<o:p></o:p></FONT></P><P>&nbsp\;</P>
LOCATION:Exotic Imports4500 16th Street Moline\, IL 61265
UID:e.2843.735
SEQUENCE:3
DTSTAMP:20260421T221129Z
URL:https://member.quadcitieschamber.com/events/details/exotic-imports-20-year-anniversary-ribbon-cutting-11-07-2013-735
END:VEVENT

END:VCALENDAR
