BEGIN:VCALENDAR
VERSION:2.0
PRODID:-//ChamberMaster//Event Calendar 2.0//EN
METHOD:PUBLISH
X-PUBLISHED-TTL:P3D
REFRESH-INTERVAL:P3D
CALSCALE:GREGORIAN
BEGIN:VEVENT
DTSTART:20080501T050000Z
DTEND:20090601T050000Z
X-MICROSOFT-CDO-ALLDAYEVENT:FALSE
SUMMARY:Exterior Services to the US Courthouse
DESCRIPTION:Exterior Services to the US Courthouse
X-ALT-DESC;FMTTYPE=text/html:Exterior Services to the US Courthouse
LOCATION:
UID:e.2843.4125
SEQUENCE:3
DTSTAMP:20260424T090718Z
URL:https://member.quadcitieschamber.com/events/details/exterior-services-to-the-us-courthouse-05-01-2008-4125
END:VEVENT

END:VCALENDAR
