BEGIN:VCALENDAR
VERSION:2.0
PRODID:-//ChamberMaster//Event Calendar 2.0//EN
METHOD:PUBLISH
X-PUBLISHED-TTL:P3D
REFRESH-INTERVAL:P3D
CALSCALE:GREGORIAN
BEGIN:VEVENT
DTSTART:20080501T050000Z
DTEND:20090501T050000Z
X-MICROSOFT-CDO-ALLDAYEVENT:FALSE
SUMMARY:Exterior Services to the US Courthouse - Downtown Partnership
DESCRIPTION:Exterior Services to the US Courthouse - Downtown Partnership
X-ALT-DESC;FMTTYPE=text/html:Exterior Services to the US Courthouse - Downtown Partnership
LOCATION:
UID:e.2843.4124
SEQUENCE:3
DTSTAMP:20260424T090932Z
URL:https://member.quadcitieschamber.com/events/details/exterior-services-to-the-us-courthouse-downtown-partnership-05-01-2008-4124
END:VEVENT

END:VCALENDAR
