BEGIN:VCALENDAR
VERSION:2.0
PRODID:-//ChamberMaster//Event Calendar 2.0//EN
METHOD:PUBLISH
X-PUBLISHED-TTL:P3D
REFRESH-INTERVAL:P3D
CALSCALE:GREGORIAN
BEGIN:VEVENT
DTSTART:20121004T210000Z
DTEND:20121004T213000Z
X-MICROSOFT-CDO-ALLDAYEVENT:FALSE
SUMMARY:Eyecare Max Ribbon Cutting
DESCRIPTION:Please help us welcome new member\, Eyecare Max\, with a ribbon cutting on Thursday\, October 4th at 4:00pm.  Located at 4007 E. 53rd Street\, Suite 400 in Davenport – next to Texas Roadhouse. Largest frame selection in the Midwest\, in all price ranges.  Expert in digital HD lenses. For more information\, visit www.eyecaremax.com
X-ALT-DESC;FMTTYPE=text/html:<P style="MARGIN: 0in 0in 0pt" class=MsoNormal><FONT face=Calibri>Please help us welcome new member\, Eyecare Max\, with a ribbon cutting on Thursday\, October 4<SUP>th</SUP> at 4:00pm.<SPAN style="mso-spacerun: yes">&nbsp\; </SPAN>Located at 4007 E. 53<SUP>rd</SUP> Street\, Suite 400 in Davenport – next to Texas Roadhouse.</FONT></P><P style="MARGIN: 0in 0in 0pt" class=MsoNormal><?xml:namespace prefix = o ns = "urn:schemas-microsoft-com:office:office" /><o:p><FONT face=Calibri>&nbsp\;</FONT></o:p></P><P style="MARGIN: 0in 0in 0pt" class=MsoNormal><FONT face=Calibri>Largest frame selection in the Midwest\, in all price ranges.<SPAN style="mso-spacerun: yes">&nbsp\; </SPAN>Expert in digital HD lenses.</FONT></P><P style="MARGIN: 0in 0in 0pt" class=MsoNormal><o:p><FONT face=Calibri>&nbsp\;</FONT></o:p></P><P style="MARGIN: 0in 0in 0pt" class=MsoNormal><FONT face=Calibri>For more information\, visit </FONT><A href="http://www.eyecaremax.com">www.eyecaremax.com</A></P><DIV style="FONT-FAMILY: Arial">&nbsp\;</DIV>
LOCATION:Eyecare Max4007 E. 53rd St. Suite 400 Davenport\, IA 52807
UID:e.2843.443
SEQUENCE:3
DTSTAMP:20260421T165854Z
URL:https://member.quadcitieschamber.com/events/details/eyecare-max-ribbon-cutting-10-04-2012-443
END:VEVENT

END:VCALENDAR
