BEGIN:VCALENDAR
VERSION:2.0
PRODID:-//ChamberMaster//Event Calendar 2.0//EN
METHOD:PUBLISH
X-PUBLISHED-TTL:P3D
REFRESH-INTERVAL:P3D
CALSCALE:GREGORIAN
BEGIN:VEVENT
DTSTART:20190415T133000Z
DTEND:20190415T150000Z
X-MICROSOFT-CDO-ALLDAYEVENT:FALSE
SUMMARY:Fair Housing Legislative Breakfast
DESCRIPTION:Community members are invited to attend a meeting of local\, state and national legislators to discuss fair housing\, community progress and other issues. This 3rd Annual Legislative Breakfast will be held at the Martin Luther King Jr. Community Center (MLK Center) on Monday April 15th from 8:30-10:00 am. It is hosted by the Quad City Area Realtor Association\, Friendship Manor and the MLK Center. Representative Mike Halpin\, Senator Neil Anderson\, Representative Tony McCombie\, and a representative from Congresswoman Cheri Bustos' office will be in attendance. Breakfast will be served. There is no cost to attend. Sign language interpretation will be available.
X-ALT-DESC;FMTTYPE=text/html:Community members are invited to attend a meeting of local\, state and national legislators to discuss fair housing\, community progress and other issues. This 3rd Annual Legislative Breakfast will be held at the Martin Luther King Jr. Community Center (MLK Center) on Monday April 15th from 8:30-10:00 am. It is hosted by the Quad City Area Realtor Association\, Friendship Manor and the MLK Center. Representative Mike Halpin\, Senator Neil Anderson\, Representative Tony McCombie\, and a representative from Congresswoman Cheri Bustos&rsquo\; office will be in attendance. Breakfast will be served. There is no cost to attend. Sign language interpretation will be available.
LOCATION:Martin Luther King Jr. Community Center
UID:e.2843.14285
SEQUENCE:3
DTSTAMP:20260422T162633Z
URL:https://member.quadcitieschamber.com/events/details/fair-housing-legislative-breakfast-14285
END:VEVENT

END:VCALENDAR
