BEGIN:VCALENDAR
VERSION:2.0
PRODID:-//ChamberMaster//Event Calendar 2.0//EN
METHOD:PUBLISH
X-PUBLISHED-TTL:P3D
REFRESH-INTERVAL:P3D
CALSCALE:GREGORIAN
BEGIN:VEVENT
DTSTART:20201006T130000Z
DTEND:20201006T170000Z
X-MICROSOFT-CDO-ALLDAYEVENT:FALSE
SUMMARY:Fall 2020 Snapshot Volunteer Water Quality Monitoring
DESCRIPTION:Register now for the Fall Snapshot Volunteer Water Quality Monitoring Event! This is your opportunity to become a citizen scientist for the day and gather important data about the health of Scott County's watersheds. The valuable data gathered by volunteers will assist PSCW in raising funds for water quality improvement projects in the county. No experience is necessary\, and anyone over 16 is welcome to participate! Tuesday\, Oct. 6 8:00AM-12:00PM Bettendorf Surrey Heights Fire Station\, 5002 Crow Creek Rd\, Bettendorf\, IA 52722 Learn more and register as a volunteer here: http://xstreamcleanup.org/event/fall-snapshot-volunteer-water-quality-monitoring-1062020
X-ALT-DESC;FMTTYPE=text/html:Register now for the Fall Snapshot Volunteer Water Quality Monitoring Event! This is your opportunity to become a citizen scientist for the day and gather important data about the health of Scott County&#39\;s watersheds. The valuable data gathered by volunteers will assist PSCW in raising funds for water quality improvement projects in the county. No experience is necessary\, and anyone over 16 is welcome to participate! Tuesday\, Oct. 6 8:00AM-12:00PM Bettendorf Surrey Heights Fire Station\, 5002 Crow Creek Rd\, Bettendorf\, IA 52722 Learn more and register as a volunteer here: http://xstreamcleanup.org/event/fall-snapshot-volunteer-water-quality-monitoring-1062020
LOCATION:Bettendorf Surrey Heights Fire Station\, 5002 Crow Creek Rd\, Bettendorf\, IA 52722
UID:e.2843.17910
SEQUENCE:3
DTSTAMP:20260421T111712Z
URL:https://member.quadcitieschamber.com/events/details/fall-2020-snapshot-volunteer-water-quality-monitoring-17910
END:VEVENT

END:VCALENDAR
