BEGIN:VCALENDAR
VERSION:2.0
PRODID:-//ChamberMaster//Event Calendar 2.0//EN
METHOD:PUBLISH
X-PUBLISHED-TTL:P3D
REFRESH-INTERVAL:P3D
CALSCALE:GREGORIAN
BEGIN:VEVENT
DTSTART:20181201T233000Z
DTEND:20181202T040000Z
X-MICROSOFT-CDO-ALLDAYEVENT:FALSE
SUMMARY:Family Christmas Lighting at The Spotlight Theatre and Event Center
DESCRIPTION:Come to The Spotlight Theatre and Event Center for a holiday\, family friendly\, FREE\, event!\n\n \n\nCome and enjoy holiday festivities\, and be the first to experience the Spotlight's outside lighting display\, complete with Santa\, Mrs. Claus\, and the elves!!!\n\n \n\nAdmission to the event is FREE. There will be food\, a hot cocoa bar\, and Christmas cookies for purchase\, as well as a cash bar.\n\n \n\nDoors open at 5:30pm. A band will be playing Christmas songs in The Spotlight Theatre from 6-7pm followed by a preview of our upcoming Theatre production\, The Happy Elf!\n\n \n\nYou can also enjoy a story with Santa and Mrs. Claus in the Green Room\, or put together a Christmas craft to take home!\n\n \n\nAt 7:30 all will gather outside for the big reveal of the outdoor lighting display of the building. Santa\, Mrs. Claus and the elves with lead a couple Christmas carols for us all to sing together and spread holiday cheer with one another. \n\n \n\nTo finish the night off\, we will have a private viewing of the movie "Elf" on the third floor in Ben Layer's space\, Owner of Purpose. The viewing is limited to 250 people and requires a free ticket reservation. You can reserve tickets at https://www.universe.com/events/elf-private-viewing-by-purpose-tickets-moline-YGMR5K\n\n \n\nWe hope you join us for this holiday event\, and help us ignite the building with our beautiful outdoor lighting\, that we plan to display for many occasions throughout the years. It is sure to be a joyful event\, you don't want to miss!
X-ALT-DESC;FMTTYPE=text/html:<p><span style="font-size:12pt">Come to The Spotlight Theatre and Event Center for a holiday\, family friendly\, FREE\, event!</span></p>\n\n<p>&nbsp\;</p>\n\n<p><span style="font-size:12pt">Come and enjoy holiday festivities\, and be the first to experience the Spotlight&#39\;s outside lighting display\, complete with Santa\, Mrs. Claus\, and the elves!!!</span></p>\n\n<p>&nbsp\;</p>\n\n<p><span style="font-size:12pt">Admission to the event is FREE. There will be food\, a hot cocoa bar\, and Christmas cookies for purchase\, as well as a cash bar.</span></p>\n\n<p>&nbsp\;</p>\n\n<p><span style="font-size:12pt">Doors open at 5:30pm. A band will be playing Christmas songs in The Spotlight Theatre from 6-7pm followed by a preview of our upcoming Theatre production\, The Happy Elf!</span></p>\n\n<p>&nbsp\;</p>\n\n<p><span style="font-size:12pt">You can also enjoy a story with Santa and Mrs. Claus in the Green Room\, or put together a Christmas craft to take home!</span></p>\n\n<p>&nbsp\;</p>\n\n<p><span style="font-size:12pt">At 7:30 all will gather outside for the big reveal of the outdoor lighting display of the building. Santa\, Mrs. Claus and the elves with lead a couple Christmas carols for us all to sing together and spread holiday cheer with one another.&nbsp\;</span></p>\n\n<p>&nbsp\;</p>\n\n<p><span style="font-size:12pt">To finish the night off\, we will have a private viewing of the movie &ldquo\;Elf&rdquo\; on the third floor in Ben Layer&rsquo\;s space\, Owner of Purpose. The viewing is limited to 250 people and requires a free ticket reservation. You can reserve tickets at https://www.universe.com/events/elf-private-viewing-by-purpose-tickets-moline-YGMR5K</span></p>\n\n<p>&nbsp\;</p>\n\n<p><span style="font-size:12pt">We hope you join us for this holiday event\, and help us ignite the building with our beautiful outdoor lighting\, that we plan to display for many occasions throughout the years. It is sure to be a joyful event\, you don&#39\;t want to miss!</span></p>\n
LOCATION:The Spotlight Theatre and Event Center 1800 7th Avenue Moline\, IL 61265
UID:e.2843.13575
SEQUENCE:3
DTSTAMP:20260423T013918Z
URL:https://member.quadcitieschamber.com/events/details/family-christmas-lighting-at-the-spotlight-theatre-and-event-center-13575
END:VEVENT

END:VCALENDAR
