BEGIN:VCALENDAR
VERSION:2.0
PRODID:-//ChamberMaster//Event Calendar 2.0//EN
METHOD:PUBLISH
X-PUBLISHED-TTL:P3D
REFRESH-INTERVAL:P3D
CALSCALE:GREGORIAN
BEGIN:VEVENT
DTSTART:20140523T223000Z
DTEND:20140523T233000Z
X-MICROSOFT-CDO-ALLDAYEVENT:FALSE
SUMMARY:Family Museum Ribbon Cutting
DESCRIPTION:Family Museum\, 2900 Learning Campus Drive in Bettendorf\, will host a ribbon cutting ceremony to celebrate the opening of their new Dora and Diego exhibit on Friday\, May 23rd at 5:30pm.   This exhibit features beloved characters Dora and Diego from Nickelodeon's hit preschool series Dora the Explorer and Go\, Diego\, Go!.  This new\, interactive traveling exhibition\, was created by The Children's Museum of Indianapolis in partnership with Nickelodeon\, presented by the WellPoint Foundation and made possible locally by DHCU Credit Union\, Scott County Regional Authority\, The Family Museum Foundation\, and Ann E. Whitman. The exhibit will be available from May 24th – September 14th\, 2014. For more information\, please visit www.familymuseum.org.
X-ALT-DESC;FMTTYPE=text/html:<FONT face=Calibri><P style="MARGIN: 0in 0in 0pt" class=MsoNormal></P><P></FONT></P><FONT face=Calibri><?xml:namespace prefix = o ns = "urn:schemas-microsoft-com:office:office" /><o:p><P style="MARGIN: 0in 0in 0pt" class=MsoNormal>Family Museum\, 2900 Learning Campus Drive in Bettendorf\, will host a ribbon cutting ceremony to celebrate the opening of their new Dora and Diego exhibit on Friday\, May 23<SUP>rd</SUP> at 5:30pm.<SPAN style="mso-spacerun: yes">&nbsp\; </SPAN><o:p></o:p></P><P style="MARGIN: 0in 0in 0pt" class=MsoNormal><o:p>&nbsp\;</o:p></P><P style="MARGIN: 0in 0in 0pt" class=MsoNormal>This exhibit features beloved characters Dora and Diego from Nickelodeon's hit preschool series&nbsp\;<I>Dora the Explorer</I>&nbsp\;and&nbsp\;<I>Go\, Diego\, Go!</I>.<SPAN style="mso-spacerun: yes">&nbsp\; </SPAN>This new\, interactive traveling exhibition\, was created by The Children's Museum of Indianapolis in partnership with Nickelodeon\, presented by the WellPoint Foundation and made possible locally by DHCU Credit Union\, Scott County Regional Authority\, The Family Museum Foundation\, and Ann E. Whitman.<o:p></o:p></P><P style="MARGIN: 0in 0in 0pt" class=MsoNormal><o:p>&nbsp\;</o:p></P><P style="MARGIN: 0in 0in 0pt" class=MsoNormal>The exhibit will be available from May 24<SUP>th</SUP> – September 14<SUP>th</SUP>\, 2014. For more information\, please visit <A href="http://www.familymuseum.org"><FONT color=#0000ff face="Times New Roman">www.familymuseum.org</FONT></A>. <o:p></o:p></P><P style="MARGIN: 0in 0in 0pt" class=MsoNormal></o:p></FONT></P>
LOCATION:Family Museum2900 Learning Campus Drive Bettendorf\, IA 52722
UID:e.2843.800
SEQUENCE:3
DTSTAMP:20260422T093551Z
URL:https://member.quadcitieschamber.com/events/details/family-museum-ribbon-cutting-05-23-2014-800
END:VEVENT

END:VCALENDAR
