BEGIN:VCALENDAR
VERSION:2.0
PRODID:-//ChamberMaster//Event Calendar 2.0//EN
METHOD:PUBLISH
X-PUBLISHED-TTL:P3D
REFRESH-INTERVAL:P3D
CALSCALE:GREGORIAN
BEGIN:VEVENT
DTSTART:20121012T223000Z
DTEND:20121012T230000Z
X-MICROSOFT-CDO-ALLDAYEVENT:FALSE
SUMMARY:Family Museum Ribbon Cutting
DESCRIPTION:Please help the Family Museum celebrate their renovation and expansion with a ribbon cutting on Friday\, October 12th at 5:30pm.  Located at 2900 Learning Campus Drive in Bettendorf – next to the Bettendorf Library. Renovation title: “Rethink\, Reshape\, Reinvent”\; $1.3 million renovation of galleries at the Family Museum\; this is a three-phased renovation with full completion in April 2013. For more information\, visit www.familymuseum.org
X-ALT-DESC;FMTTYPE=text/html:<P style="MARGIN: 0in 0in 0pt" class=MsoNormal><FONT face=Calibri>Please help the Family Museum celebrate their renovation and expansion with a ribbon cutting on Friday\, October 12<SUP>th</SUP> at 5:30pm.<SPAN style="mso-spacerun: yes">&nbsp\; </SPAN>Located at 2900 Learning Campus Drive in Bettendorf – next to the Bettendorf Library.</FONT></P><P style="MARGIN: 0in 0in 0pt" class=MsoNormal><?xml:namespace prefix = o ns = "urn:schemas-microsoft-com:office:office" /><o:p><FONT face=Calibri>&nbsp\;</FONT></o:p></P><P style="MARGIN: 0in 0in 0pt" class=MsoNormal><FONT face=Calibri>Renovation title: “Rethink\, Reshape\, Reinvent”\; $1.3 million renovation of galleries at the Family Museum\; this is a three-phased renovation with full completion in April 2013.</FONT></P><P style="MARGIN: 0in 0in 0pt" class=MsoNormal><o:p><FONT face=Calibri>&nbsp\;</FONT></o:p></P><P style="MARGIN: 0in 0in 0pt" class=MsoNormal><FONT face=Calibri>For more information\, visit </FONT><A href="http://www.familymuseum.org">www.familymuseum.org</A></P><DIV style="FONT-FAMILY: Arial">&nbsp\;</DIV>
LOCATION:Family Museum2900 Learning Campus Drive Bettendorf\, IA 52722
UID:e.2843.448
SEQUENCE:3
DTSTAMP:20260421T183858Z
URL:https://member.quadcitieschamber.com/events/details/family-museum-ribbon-cutting-10-12-2012-448
END:VEVENT

END:VCALENDAR
