BEGIN:VCALENDAR
VERSION:2.0
PRODID:-//ChamberMaster//Event Calendar 2.0//EN
METHOD:PUBLISH
X-PUBLISHED-TTL:P3D
REFRESH-INTERVAL:P3D
CALSCALE:GREGORIAN
BEGIN:VEVENT
DTSTART:20210414T140000Z
DTEND:20210414T210000Z
X-MICROSOFT-CDO-ALLDAYEVENT:FALSE
SUMMARY:FBG Service Corporation JOB FAIR
DESCRIPTION:FBG Service Corporation's Quad Cities District Office is holding a Job Fair for commercial cleaning positions on April 14\, 2021 at their district office at 7930 42nd Street West in Rock Island between the hours of 9:00 a.m. and 4:00 p.m.\n\n \n\nThe Quad Cities District is hiring full-time and part-time janitorial staff for some of the largest businesses in the region. Interviews will be held during the event and all applicants will be placed into a drawing for a $100 Amazon gift card. They will also be providing free bagels and coffee in the morning\, and hot dogs and ice cream in the afternoon. \n\n \n\nQuad Cities District Director\, Scott Hess\, said that\, "new employees of FBG can look forward to a competitive salary\, benefits\, training and career advancement opportunities\, flexible schedules\, weekly play and the opportunity to be an employee owner."\n\n \n\nApplicants who are hired will receive a $250 sign-on bonus ($125 paid after 30 days and another $125 after 60 days). \n\n \n\nApplicants are encouraged to apply online as well at www.fbgservices.com/careers
X-ALT-DESC;FMTTYPE=text/html:<span style="font-family:times new roman\,serif">FBG Service Corporation&rsquo\;s Quad Cities District Office is holding a Job Fair for commercial cleaning positions on April 14\, 2021 at their district office at 7930 42<sup>nd</sup> Street West in Rock Island between the hours of 9:00 a.m. and 4:00 p.m.</span><br />\n&nbsp\;<br />\n<span style="font-family:times new roman\,serif">The Quad Cities District is hiring full-time and part-time janitorial staff for some of the largest businesses in the region. Interviews will be held during the event and all applicants will be placed into a drawing for a $100 Amazon gift card. They will also be providing free bagels and coffee in the morning\, and hot dogs and ice cream in the afternoon. </span><br />\n&nbsp\;<br />\n<span style="font-family:times new roman\,serif">Quad Cities District Director\, Scott Hess\, said that\, &ldquo\;new employees of FBG can look forward to a competitive salary\, benefits\, training and career advancement opportunities\, flexible schedules\, weekly play and the opportunity to be an employee owner.&rdquo\;</span><br />\n&nbsp\;<br />\n<span style="font-family:times new roman\,serif">Applicants who are hired will receive a $250 sign-on bonus ($125 paid after 30 days and another $125 after 60 days). </span><br />\n&nbsp\;<br />\n<span style="font-family:times new roman\,serif"><span style="font-size:12.0pt">Applicants are encouraged to apply online as well at www.fbgservices.com/careers</span></span>
LOCATION:FBG Service Corporation 7930 42nd St W Ste C Rock Island\, IL 61201
UID:e.2843.18792
SEQUENCE:3
DTSTAMP:20260421T015217Z
URL:https://member.quadcitieschamber.com/events/details/fbg-service-corporation-job-fair-18792
END:VEVENT

END:VCALENDAR
