BEGIN:VCALENDAR
VERSION:2.0
PRODID:-//ChamberMaster//Event Calendar 2.0//EN
METHOD:PUBLISH
X-PUBLISHED-TTL:P3D
REFRESH-INTERVAL:P3D
CALSCALE:GREGORIAN
BEGIN:VEVENT
DTSTART:20170214T174500Z
DTEND:20170214T190000Z
X-MICROSOFT-CDO-ALLDAYEVENT:FALSE
SUMMARY:Feb 2017 Network @ Noon - From Vision to Impact: Chad Pregracke's Story
DESCRIPTION:We apologize but due to limited space this event is already full. Walk-in's WILL NOT be accepted at the door. Thank you for your cooperation.\n\n\n\nAt the age of 23 Chad Pregracke founded Living Lands & Waters. Today\, the organization has grown to include a full staff and fleet of equipment. The crew averages nine states a year along the Mississippi\, Illinois and Ohio Rivers\, as well as many of their tributaries. Since the project's inception\, Chad\, his crew\, and over 87\,000 volunteers have collected 8.4 million pounds of debris from our nation's greatest rivers. Come listen to his story while connecting with Quad Cities young professionals for lunch and some networking.\n\n\n\nDuring the lunch hour\, join YPQC to enhance your personal and professional development skills.  With a new speaker and topic each month\, you'll brush up on your skills each time while learning more about the local opportunities available to young professionals. Network\, grab a bite to eat\, and pick up some new insight at our monthly Network @ Noon\, typically held the second Tuesday of each month. Make sure to arrive early for check-in which will begin at 11:45am.\n\n\n\n*If you need any special requirements to attend this meeting please contact Megan Lovelady at mlovelady@quadcitieschamber.com*\n\n\n\n*If you work for a company that is a member of the Chamber\, you are automatically a member of YPQC and attend at YPQC member prices. If your company is not a member of the Chamber\, you can join YPQC separately for $50/year. Contact Greg Aguilar at gaguilar@quadcitieschamber.com or 563.823.2659.\n\n\n\nCancellation Policy:\n\nCancellations must be received at least 72 hours in advance in order to receive a registration refund. You may transfer your registration to another person within your company at no additional cost.
X-ALT-DESC;FMTTYPE=text/html:<p class="MsoNormal" style="MARGIN: 0in 0in 0pt"><span style="font-size:16px\;"><span style="font-family:arial\;"><strong><span style="color:#FF0000\;"><span style="letter-spacing: -0.2px\;">We apologize but due to limited space this event is already full. Walk-in&#39\;s WILL NOT be accepted at the door.&nbsp\;Thank you for your cooperation.</span></span></strong><br />\n<br />\nAt the age of 23 Chad Pregracke founded Living Lands &amp\; Waters. Today\, the organization has grown to include a full staff and fleet of equipment. The crew averages nine states a year along the Mississippi\, Illinois and Ohio Rivers\, as well as many of their tributaries. Since the project&rsquo\;s inception\, Chad\, his crew\, and over 87\,000 volunteers have collected 8.4 million pounds of debris from our nation&rsquo\;s greatest rivers. Come listen to his story while connecting with Quad Cities young professionals for lunch and some networking.<br />\n<br />\n<span style="font-stretch:normal\;widows:1\;"><span style="color:#222222\;"><span mso-ascii-font-family:="" mso-bidi-font-family:="" mso-hansi-font-family:="" new="" times=""><span style="color:black\;"><span style="background-image:initial\;background-position:initial\;background-size:initial\;background-repeat:initial\;background-attachment:initial\;background-origin:initial\;background-clip:initial\;">During the lunch hour\, join&nbsp\;<span data-scayt-lang="en_US" data-scayt-word="YPQC" style="background-image:url(">YPQC</span>&nbsp\;to enhance your personal and professional development skills.&nbsp\; With a new speaker and topic each month\, you&#39\;ll brush up on your skills each time while learning more about the local opportunities available to young professionals. Network\, grab a bite to eat\, and pick up some new insight at our monthly Network @ Noon\, typically held the second Tuesday of each month.&nbsp\;Make sure to arrive early for check-in which will begin at 11:45am.</span></span></span></span></span><br />\n<br />\n<span mso-ascii-font-family:="" mso-ascii-theme-font:="" mso-hansi-font-family:="" mso-hansi-theme-font:="" new="" style="background-image:initial\;background-position:initial\;background-size:initial\;background-repeat:initial\;background-attachment:initial\;background-origin:initial\;background-clip:initial\;" times=""><span style="color:black\;">*If you need any special requirements to attend this meeting please contact Megan&nbsp\;<span data-scayt-lang="en_US" data-scayt-word="Lovelady" style="background-image:url(">Lovelady</span>&nbsp\;at&nbsp\;<span data-scayt-lang="en_US" data-scayt-word="mlovelady" style="background-image:url(">mlovelady</span>@quadcitieschamber.com*</span></span><br />\n<br />\n<span mso-ascii-font-family:="" mso-ascii-theme-font:="" mso-hansi-font-family:="" mso-hansi-theme-font:="" new="" style="background-image:initial\;background-position:initial\;background-size:initial\;background-repeat:initial\;background-attachment:initial\;background-origin:initial\;background-clip:initial\;" times=""><span style="color:black\;"><span style="background-image:initial\;background-position:initial\;background-size:initial\;background-repeat:initial\;background-attachment:initial\;background-origin:initial\;background-clip:initial\;"><span style="color:#141823\;">*If you work for a company that is a member of the Chamber\, you are automatically a member of&nbsp\;<span data-scayt-lang="en_US" data-scayt-word="YPQC" style="background-image:url(">YPQC</span>&nbsp\;and attend at&nbsp\;<span data-scayt-lang="en_US" data-scayt-word="YPQC" style="background-image:url(">YPQC</span>&nbsp\;member prices. If your company is not a member of the Chamber\, you can join&nbsp\;<span data-scayt-lang="en_US" data-scayt-word="YPQC" style="background-image:url(">YPQC</span>&nbsp\;separately for $50/year. Contact Greg Aguilar at&nbsp\;<a href="mailto:gaguilar@quadcitieschamber.com"><span style="color:#0000ff\;"><span data-scayt-lang="en_US" data-scayt-word="gaguilar" style="background-image:url(">gaguilar</span>@quadcitieschamber.com</span></a>&nbsp\;or 563.823.2659.</span></span></span></span><br />\n<br />\n<u>Cancellation Policy:</u><br />\nCancellations must be received at least 72 hours in advance in order to receive a registration refund. You may transfer your registration to another person within your company at no additional cost.</span></span></p>\n
LOCATION:Moline Public Library 3210 41st Street Moline\, IL 61265
UID:e.2843.4504
SEQUENCE:3
DTSTAMP:20260424T070643Z
URL:https://member.quadcitieschamber.com/events/details/feb-2017-network-noon-from-vision-to-impact-chad-pregracke-s-story-4504
END:VEVENT

END:VCALENDAR
