BEGIN:VCALENDAR
VERSION:2.0
PRODID:-//ChamberMaster//Event Calendar 2.0//EN
METHOD:PUBLISH
X-PUBLISHED-TTL:P3D
REFRESH-INTERVAL:P3D
CALSCALE:GREGORIAN
BEGIN:VEVENT
DTSTART:20090520T050000Z
DTEND:20090520T050000Z
X-MICROSOFT-CDO-ALLDAYEVENT:FALSE
SUMMARY:Federation Event - Figge
DESCRIPTION:Federation Event - Figge
X-ALT-DESC;FMTTYPE=text/html:Federation Event - Figge
LOCATION:
UID:e.2843.3697
SEQUENCE:3
DTSTAMP:20260424T090348Z
URL:https://member.quadcitieschamber.com/events/details/federation-event-figge-05-20-2009-3697
END:VEVENT

END:VCALENDAR
