BEGIN:VCALENDAR
VERSION:2.0
PRODID:-//ChamberMaster//Event Calendar 2.0//EN
METHOD:PUBLISH
X-PUBLISHED-TTL:P3D
REFRESH-INTERVAL:P3D
CALSCALE:GREGORIAN
BEGIN:VEVENT
DTSTART:20120924T150000Z
DTEND:20120924T153000Z
X-MICROSOFT-CDO-ALLDAYEVENT:FALSE
SUMMARY:Fejervary Learning Center Ribbon Cutting
DESCRIPTION:Please join Fejervary Learning Center for a ribbon cutting ceremony on Monday\, September 24th\, 2012 at 10:00am.  Located at 1759 W. 12th Street in Davenport. Located at the former zoo facility at Fejervary Park\, the Fejervary Learning Center has an early childhood theme and provides a focus on environmental education for children through nature exhibits.  On display at the Learning Center is a show area of the 50 state trees\, a children’s garden and natural playground\, and Juan Diaz Rancheros\, which provides emotional therapy for children through interaction with horses. Join them after the ribbon cutting ceremony to explore on your own this new and already successful addition to Davenport Parks and  Recreation facilities.
X-ALT-DESC;FMTTYPE=text/html:<DIV style="FONT-FAMILY: Arial"><P style="MARGIN: 0in 0in 0pt" class=MsoNormal><FONT face=Calibri>Please join Fejervary Learning Center for a ribbon cutting ceremony on Monday\, September 24<SUP>th</SUP>\, 2012 at 10:00am.<SPAN style="mso-spacerun: yes">&nbsp\; </SPAN>Located at 1759 W. 12<SUP>th</SUP> Street in Davenport.</FONT></P><P style="MARGIN: 0in 0in 0pt" class=MsoNormal><?xml:namespace prefix = o ns = "urn:schemas-microsoft-com:office:office" /><o:p><FONT face=Calibri>&nbsp\;</FONT></o:p></P><P style="MARGIN: 0in 0in 0pt" class=MsoNormal><FONT face=Calibri>Located at the former zoo facility at Fejervary Park\, the Fejervary Learning Center has an early childhood theme and provides a focus on environmental education for children through nature exhibits.<SPAN style="mso-spacerun: yes">&nbsp\; </SPAN>On display at the Learning Center is a show area of the 50 state trees\, a children’s garden and natural playground\, and Juan Diaz Rancheros\, which provides emotional therapy for children through interaction with horses.</FONT></P><P style="MARGIN: 0in 0in 0pt" class=MsoNormal><o:p><FONT face=Calibri>&nbsp\;</FONT></o:p></P><P style="MARGIN: 0in 0in 0pt" class=MsoNormal><FONT face=Calibri>Join them after the ribbon cutting ceremony to explore on your own this new and already successful addition to Davenport Parks and<SPAN style="mso-spacerun: yes">&nbsp\; </SPAN>Recreation facilities.</FONT></P></DIV>
LOCATION:Fejervary Learning Center1759 W. 12th Street Davenport\, IA 52804
UID:e.2843.440
SEQUENCE:3
DTSTAMP:20260421T183642Z
URL:https://member.quadcitieschamber.com/events/details/fejervary-learning-center-ribbon-cutting-09-24-2012-440
END:VEVENT

END:VCALENDAR
