BEGIN:VCALENDAR
VERSION:2.0
PRODID:-//ChamberMaster//Event Calendar 2.0//EN
METHOD:PUBLISH
X-PUBLISHED-TTL:P3D
REFRESH-INTERVAL:P3D
CALSCALE:GREGORIAN
BEGIN:VEVENT
DTSTART:20130828T210000Z
DTEND:20130828T213000Z
X-MICROSOFT-CDO-ALLDAYEVENT:FALSE
SUMMARY:Fidlar Technologies Ribbon Cutting
DESCRIPTION:Please join new member\, Fidlar Technlogies\, Inc. in celebrating their grand opening on Wendesday\, August 28th at 4:00 p.m. – Located at 350 Research Parkway in Davenport.  Fidlar Technologies develops\, sells and support land records software for county recorders’ offices. For more information\, visit www.fidlar.com
X-ALT-DESC;FMTTYPE=text/html:<DIV style="FONT-FAMILY: Arial"><P style="MARGIN: 0in 0in 0pt" class=MsoNormal><FONT face=Calibri>Please join new member\, Fidlar Technlogies\, Inc. in celebrating their grand opening on Wendesday\, August 28<SUP>th</SUP> at 4:00 p.m. – Located at 350 Research Parkway in Davenport. <?xml:namespace prefix = o ns = "urn:schemas-microsoft-com:office:office" /><o:p></o:p></FONT></P><P style="MARGIN: 0in 0in 0pt" class=MsoNormal><o:p><FONT face=Calibri>&nbsp\;</FONT></o:p></P><P style="MARGIN: 0in 0in 0pt" class=MsoNormal><FONT face=Calibri>Fidlar Technologies develops\, sells and support land records software for county recorders’ offices.<o:p></o:p></FONT></P><P style="MARGIN: 0in 0in 0pt" class=MsoNormal><o:p><FONT face=Calibri>&nbsp\;</FONT></o:p></P><P style="MARGIN: 0in 0in 0pt" class=MsoNormal><FONT face=Calibri>For more information\, visit </FONT><A href="http://www.fidlar.com"><FONT face="Times New Roman">www.fidlar.com</FONT></A><o:p></o:p></P></DIV>
LOCATION:Fidlar Technologies350 Research Parkway Davenport\, IA 52806
UID:e.2843.669
SEQUENCE:3
DTSTAMP:20260421T165740Z
URL:https://member.quadcitieschamber.com/events/details/fidlar-technologies-ribbon-cutting-08-28-2013-669
END:VEVENT

END:VCALENDAR
