BEGIN:VCALENDAR
VERSION:2.0
PRODID:-//ChamberMaster//Event Calendar 2.0//EN
METHOD:PUBLISH
X-PUBLISHED-TTL:P3D
REFRESH-INTERVAL:P3D
CALSCALE:GREGORIAN
BEGIN:VEVENT
DTSTART:20171210T170000Z
DTEND:20171210T210000Z
X-MICROSOFT-CDO-ALLDAYEVENT:FALSE
SUMMARY:Fill the Bowl
DESCRIPTION:YOU'RE INVITED TO FILL THE BOWL!\nJoin us for a "family friendly" event where you will share in a meal with others from our community\, participate in a volunteer event\, and learn about the hunger issue that over 119\,000 of your neighbors are experiencing each day.\n\nEach family attending will receive an Isabel Bloom Friendship Bowl in appreciation of your generosity.
X-ALT-DESC;FMTTYPE=text/html:<span style="background-color:rgb(255\, 255\, 255)\; color:rgb(29\, 33\, 41)\; font-family:helvetica\,arial\,sans-serif\; font-size:14px">YOU&rsquo\;RE INVITED TO FILL THE BOWL!</span>\n<p>Join us for a &ldquo\;family friendly&rdquo\; event where you will share in a meal with others from our community\, participate in a volunteer event\, and learn about the hunger issue that over 119\,000 of your neighbors are experiencing each day.</p>\n\n<p>Each family attending will receive an Isabel Bloom Friendship Bowl in appreciation of your generosity.</p>\n
LOCATION:River Bend Foodbank 4010 Kimmel Drive Davenport\, IA
UID:e.2843.8818
SEQUENCE:3
DTSTAMP:20260423T181159Z
URL:https://member.quadcitieschamber.com/events/details/fill-the-bowl-8818
END:VEVENT

END:VCALENDAR
