BEGIN:VCALENDAR
VERSION:2.0
PRODID:-//ChamberMaster//Event Calendar 2.0//EN
METHOD:PUBLISH
X-PUBLISHED-TTL:P3D
REFRESH-INTERVAL:P3D
CALSCALE:GREGORIAN
BEGIN:VEVENT
DTSTART:20190622T140000Z
DTEND:20190622T170000Z
X-MICROSOFT-CDO-ALLDAYEVENT:FALSE
SUMMARY:Fill the Truck
DESCRIPTION:Join us at 13 area Hy-Vee stores in Muscatine\, Clinton and the Quad Cities for Fill the Truck! Family Resources staff and volunteers will collect new\, basic need items for individuals and families utilizing our shelter and housing services. If you are interested in volunteering please contact Bob at roberts@famres.org. For all other questions please contact Nisha at nladlee@famres.org. Participating Hy-Vee Locations: - Bettendorf: Middle & Devils Glen Road - Clinton: S. 4th Street - Davenport: 53rd & Utica Ridge Road - Davenport: Kimberly & Eastern Ave. - Davenport: Rockingham Road - Davenport: W. Locust & Lincoln Road - Davenport: W. Kimberly & N. Pine St. - Milan: W. 10th Street - Moline: John Deere Road - Moline: Avenue of the Cities - Muscatine: 2nd Avenue - Rock Island: 18th Avenue - Silvis: W. 10th Street
X-ALT-DESC;FMTTYPE=text/html:Join us at 13 area Hy-Vee stores in Muscatine\, Clinton and the Quad Cities for Fill the Truck! Family Resources staff and volunteers will collect new\, basic need items for individuals and families utilizing our shelter and housing services. If you are interested in volunteering please contact Bob at roberts@famres.org. For all other questions please contact Nisha at nladlee@famres.org. Participating Hy-Vee Locations: - Bettendorf: Middle &amp\; Devils Glen Road - Clinton: S. 4th Street - Davenport: 53rd &amp\; Utica Ridge Road - Davenport: Kimberly &amp\; Eastern Ave. - Davenport: Rockingham Road - Davenport: W. Locust &amp\; Lincoln Road - Davenport: W. Kimberly &amp\; N. Pine St. - Milan: W. 10th Street - Moline: John Deere Road - Moline: Avenue of the Cities - Muscatine: 2nd Avenue - Rock Island: 18th Avenue - Silvis: W. 10th Street
LOCATION:13 Area Hy-Vee Locations
UID:e.2843.15352
SEQUENCE:3
DTSTAMP:20260422T131235Z
URL:https://member.quadcitieschamber.com/events/details/fill-the-truck-15352
END:VEVENT

END:VCALENDAR
