BEGIN:VCALENDAR
VERSION:2.0
PRODID:-//ChamberMaster//Event Calendar 2.0//EN
METHOD:PUBLISH
X-PUBLISHED-TTL:P3D
REFRESH-INTERVAL:P3D
CALSCALE:GREGORIAN
BEGIN:VEVENT
DTSTART:20180214T000000Z
DTEND:20180214T010000Z
X-MICROSOFT-CDO-ALLDAYEVENT:FALSE
SUMMARY:Financially Fit for 2018
DESCRIPTION:On February 13th\, 2018 from 6:00   7:00 pm\, R.I.A. Federal Credit Union will be conducting a workshop to help educate people about how to make smart financial decisions in 2018. An expert from GreenPath Financial Wellness\, a partner of R.I.A. Federal Credit Union\, will talk to attendees about taking control of finances to reach goals and feel financially fit in the new year. This free event will take place in the Bettendorf Corporate Center located at 4343 Utica Ridge Road and is open to members and non-members. Dinner will also be provided. Space is limited. Email jward@riafcu.com before February 9th to reserve a spot.
X-ALT-DESC;FMTTYPE=text/html:On February 13th\, 2018 from 6:00 &ndash\; 7:00 pm\, R.I.A. Federal Credit Union will be conducting a workshop to help educate people about how to make smart financial decisions in 2018. An expert from GreenPath Financial Wellness\, a partner of R.I.A. Federal Credit Union\, will talk to attendees about taking control of finances to reach goals and feel financially fit in the new year. This free event will take place in the Bettendorf Corporate Center located at 4343 Utica Ridge Road and is open to members and non-members. Dinner will also be provided. Space is limited. Email <a href="mailto:jward@riafcu.com"><span style="color:#0000CD\;"><u>jward@riafcu.com</u></span></a> before February 9th to reserve a spot.
LOCATION:R.I.A. Federal Credit Union Corporate Office\, 4343 Utica Ridge Rd\, Bettendorf IA
UID:e.2843.9957
SEQUENCE:3
DTSTAMP:20260423T152733Z
URL:https://member.quadcitieschamber.com/events/details/financially-fit-for-2018-9957
END:VEVENT

END:VCALENDAR
