BEGIN:VCALENDAR
VERSION:2.0
PRODID:-//ChamberMaster//Event Calendar 2.0//EN
METHOD:PUBLISH
X-PUBLISHED-TTL:P3D
REFRESH-INTERVAL:P3D
CALSCALE:GREGORIAN
BEGIN:VEVENT
DTSTART:20180703T230000Z
DTEND:20180704T030000Z
X-MICROSOFT-CDO-ALLDAYEVENT:FALSE
SUMMARY:First Annual Party at UP (rooftop of The Current Iowa) - Red White & BOOM
DESCRIPTION:Join us at UP {rooftop bar at The Current Iowa}\, as we celebrate America's birthday with the best views in town.\n\n\n\nOur first ever pre-Independence Day party will feature an open bar from 6-10 pm\, along with endless appetizers and delicious BBQ from 6-8 pm. Enjoy a front-row view to the fireworks over the river. \n\n\n\nLimited tickets available. Call Dolores at 563-231-9572 for this VIP event!\n\n\n\nRain/Shine: Should the event be "rained out"   a gift certificate will be given in the full amount\n\n\n\n \nMenu for Red\, White & BOOM:\n\nRoasted Tomato Ricotta Bruschetta \n\nHeirloom tomato/herbed ricotta/crispy pancetta/baguette\n\nFeta and Watermelon Skewer\n\nFeta/Watermelon/Grilled\n\nMini Pint Glass with Bacon Cheese Burger\n\nMini Patron Shots with Mini Smoke Salmon Tostada\n\nIndividual Veggie Cups\n\nBloody Mary Shrimp Shooter\n\nChargrilled corn on the cob with spicy butter\n\nBaked beans with house bacon\n\nAmerican potato salad\n\nColeslaw\n\nFresh Fried Potato Chips\n\nAssorted wings\n\nBeer Brat Skewers \n\nBeer/brat/onion/zucchini/squash\n\nBBQ Shrimp and Peach Skewer\n\nShrimp/BBQ/grilled peach\n\nHot Dog Station\n\nBeef hotdog/bacon wrapped hot dog/brat\n\nGrain mustard/ballpark mustard/ketchup/chipotle aioli/relish/dill pickle/sauerkraut/kimchi/onion/chili/cheese/celery salt/sports pepper/tomato wedge
X-ALT-DESC;FMTTYPE=text/html:<span style="font-family:arial\;"><span style="color: rgb(29\, 33\, 41)\; font-size: 14px\;">Join us at UP {rooftop bar at The Current Iowa}\, as we celebrate America&rsquo\;s birthday with the best views in town.</span><br style="color: rgb(29\, 33\, 41)\; font-family: Helvetica\, Arial\, sans-serif\; font-size: 14px\;" />\n<br style="color: rgb(29\, 33\, 41)\; font-family: Helvetica\, Arial\, sans-serif\; font-size: 14px\;" />\n<span style="color: rgb(29\, 33\, 41)\; font-size: 14px\;">Our first ever pre-Independence Day party will feature an open bar from 6-10 pm\, along with endless appetizers and delicious BBQ from 6-8 pm. Enjoy a front-row view to the fireworks over the river.&nbsp\;</span><br style="color: rgb(29\, 33\, 41)\; font-family: Helvetica\, Arial\, sans-serif\; font-size: 14px\;" />\n<br style="color: rgb(29\, 33\, 41)\; font-family: Helvetica\, Arial\, sans-serif\; font-size: 14px\;" />\n<span style="color: rgb(29\, 33\, 41)\; font-size: 14px\;">Limited tickets available. Call Dolores at 563-231-9572 for this VIP event!</span><br />\n<br />\nRain/Shine: Should the event be &ldquo\;rained out&rdquo\; &ndash\; a gift certificate will be given in the full amount</span><br />\n<br />\n&nbsp\;\n<p style="margin: 0px 0px 6px\; font-family: Helvetica\, Arial\, sans-serif\; color: rgb(29\, 33\, 41)\; font-size: 14px\;"><strong>Menu for Red\, White &amp\;&nbsp\;BOOM:</strong></p>\n\n<p style="margin: 6px 0px 0px\; display: inline\; font-family: Helvetica\, Arial\, sans-serif\; color: rgb(29\, 33\, 41)\; font-size: 14px\;">Roasted Tomato Ricotta Bruschetta&nbsp\;<br />\nHeirloom tomato/herbed ricotta/crispy pancetta/baguette<br />\nFeta and Watermelon Skewer<br />\nFeta/Watermelon/Grilled<br />\nMini Pint Glass with Bacon Cheese Burger<br />\nMini Patron Shots with Mini Smoke Salmon Tostada<br />\nIndividual Veggie Cups<br />\nBloody Mary Shrimp Shooter<br />\nChargrilled corn on the cob with spicy butter<br />\nBaked beans with house bacon<br />\nAmerican potato salad<br />\nColeslaw<br />\nFresh Fried Potato Chips<br />\nAssorted wings<br />\nBeer Brat Skewers&nbsp\;<br />\nBeer/brat/onion/zucchini/squash<br />\nBBQ Shrimp and Peach Skewer<br />\nShrimp/BBQ/grilled peach<br />\nHot Dog Station<br />\nBeef hotdog/bacon wrapped hot dog/brat<br />\nGrain mustard/ballpark mustard/ketchup/chipotle aioli/relish/dill pickle/sauerkraut/kimchi/onion/chili/cheese/celery salt/sports pepper/tomato wedge</p>\n
LOCATION:UP Sky Bar\, The Current Iowa 215 N. Main St. Davenport\, IA 52801
UID:e.2843.13327
SEQUENCE:3
DTSTAMP:20260423T075734Z
URL:https://member.quadcitieschamber.com/events/details/first-annual-party-at-up-rooftop-of-the-current-iowa-red-white-boom-13327
END:VEVENT

END:VCALENDAR
