BEGIN:VCALENDAR
VERSION:2.0
PRODID:-//ChamberMaster//Event Calendar 2.0//EN
METHOD:PUBLISH
X-PUBLISHED-TTL:P3D
REFRESH-INTERVAL:P3D
CALSCALE:GREGORIAN
BEGIN:VEVENT
DTSTART:20111015T160000Z
DTEND:20111015T200000Z
X-MICROSOFT-CDO-ALLDAYEVENT:FALSE
SUMMARY:First Army Welcome at Niabi Zoo
DESCRIPTION:Welcome the First Army and their families with the Quad Cities Chamber during a free day at Niaibi Zoo. Newly relocated families will receive information about living in the Quad Cities and have the opportunity to meet members of the community.
X-ALT-DESC;FMTTYPE=text/html:<DIV style="FONT-FAMILY: Arial"><P style="MARGIN: 0in 0in 0pt 5.75pt" class=MsoNormal><FONT face=Calibri>Welcome the First Army and their families with the Quad Cities Chamber during a free day at Niaibi Zoo. Newly relocated families will receive information about living in the Quad Cities and have the opportunity to meet members of the community.</FONT></P></DIV>
LOCATION:Niabi Zoo13010 Niabi Zoo Road Coal Valley\, IL 61240
UID:e.2843.252
SEQUENCE:3
DTSTAMP:20260422T125032Z
URL:https://member.quadcitieschamber.com/events/details/first-army-welcome-at-niabi-zoo-10-15-2011-252
END:VEVENT

END:VCALENDAR
