BEGIN:VCALENDAR
VERSION:2.0
PRODID:-//ChamberMaster//Event Calendar 2.0//EN
METHOD:PUBLISH
X-PUBLISHED-TTL:P3D
REFRESH-INTERVAL:P3D
CALSCALE:GREGORIAN
BEGIN:VEVENT
DTSTART:20200129T223000Z
DTEND:20200130T033000Z
X-MICROSOFT-CDO-ALLDAYEVENT:FALSE
SUMMARY:First Midwest Bank Fraud Awareness Event
DESCRIPTION:Join Us for A Presentation on Fraud Awareness!\n\n\n\nLearn how to prepare your business from fraud attempts as Kristen Saranteas\, First Midwest's Head of Treasury Management\, presents Fraud Mitigation Within Your Disaster Recovery Plan. Then come join us as we cheer on Augustana's basketball team as they take on Elmhurst College!\n\n\n\nLocation:\n\nThe Ken Anderson Club at Augustana College\n\n3500 5th Ave\, Rock Island\, IL 61201\n\n\n\nFood and beverages included.\n\n\n\nIf you would like to attend\, please RSVP by Wednesday\, January 22nd to Ryan Novak at Ryan.Novak@FirstMidwest.com.\n\n\n\nSeating is limited and on a first come first serve basis.
X-ALT-DESC;FMTTYPE=text/html:Join Us for A Presentation on Fraud Awareness!<br />\n<br />\nLearn how to prepare your business from fraud attempts as Kristen Saranteas\, First Midwest&#39\;s Head of Treasury Management\, presents Fraud Mitigation Within Your Disaster Recovery Plan. Then come join us as we cheer on Augustana&rsquo\;s basketball team as they take on Elmhurst College!<br />\n<br />\nLocation:<br />\nThe Ken Anderson Club at Augustana College<br />\n3500 5th Ave\, Rock Island\, IL 61201<br />\n<br />\nFood and beverages included.<br />\n<br />\nIf you would like to attend\, please RSVP by Wednesday\, January 22nd to Ryan Novak at Ryan.Novak@FirstMidwest.com.<br />\n<br />\nSeating is limited and on a first come first serve basis.
LOCATION:The Ken Anderson Club at Augustana College 3500 5th Ave\, Rock Island\, IL 61201
UID:e.2843.17473
SEQUENCE:3
DTSTAMP:20260422T015354Z
URL:https://member.quadcitieschamber.com/events/details/first-midwest-bank-fraud-awareness-event-17473
END:VEVENT

END:VCALENDAR
