BEGIN:VCALENDAR
VERSION:2.0
PRODID:-//ChamberMaster//Event Calendar 2.0//EN
METHOD:PUBLISH
X-PUBLISHED-TTL:P3D
REFRESH-INTERVAL:P3D
CALSCALE:GREGORIAN
BEGIN:VEVENT
DTSTART:20130129T230000Z
DTEND:20130129T233000Z
X-MICROSOFT-CDO-ALLDAYEVENT:FALSE
SUMMARY:First National Bank Ribbon Cutting
DESCRIPTION:Please help First National Bank (and fellow Ambassador\, Debbie Packard J) celebrate their grand opening with a ribbon cutting on Tuesday\, January 29\, 2013 at 5:00pm.  Located at 4500 E. 53rd Street in Davenport – between Utica Ridge Rd and 18th Street First National Bank is a $70 million community bank in the Quad Cities with offices in Davenport\, Moline and Cairo\, IL.  First National Bank is part of the Farrar Banking Group based in Pierre\, South Dakota with additional banking operations in Minnesota\, Nebraska\, Colorado\, Texas and the American Southwest. For more information\, please visit www.FirstNationalBanks.com.
X-ALT-DESC;FMTTYPE=text/html:<P style="MARGIN: 0in 0in 0pt" class=MsoNormal><FONT face=Calibri>Please help First National Bank (and fellow Ambassador\, Debbie Packard </FONT><SPAN style="FONT-FAMILY: Wingdings\; mso-ascii-font-family: Calibri\; mso-hansi-font-family: Calibri\; mso-char-type: symbol\; mso-symbol-font-family: Wingdings"><SPAN style="mso-char-type: symbol\; mso-symbol-font-family: Wingdings">J</SPAN></SPAN><FONT face=Calibri>) celebrate their grand opening with a ribbon cutting on Tuesday\, January 29\, 2013 at 5:00pm.<SPAN style="mso-spacerun: yes">&nbsp\; </SPAN>Located at 4500 E. 53<SUP>rd</SUP> Street in Davenport – between Utica Ridge Rd and 18<SUP>th</SUP> Street</FONT></P><P style="MARGIN: 0in 0in 0pt" class=MsoNormal><?xml:namespace prefix = o ns = "urn:schemas-microsoft-com:office:office" /><o:p><FONT face=Calibri>&nbsp\;</FONT></o:p></P><P style="MARGIN: 0in 0in 0pt" class=MsoNormal><FONT face=Calibri>First National Bank is a $70 million community bank in the Quad Cities with offices in Davenport\, Moline and Cairo\, IL.<SPAN style="mso-spacerun: yes">&nbsp\; </SPAN>First National Bank is part of the Farrar Banking Group based in Pierre\, South Dakota with additional banking operations in Minnesota\, Nebraska\, Colorado\, Texas and the American Southwest.</FONT></P><P style="MARGIN: 0in 0in 0pt" class=MsoNormal><o:p><FONT face=Calibri>&nbsp\;</FONT></o:p></P><P style="MARGIN: 0in 0in 0pt" class=MsoNormal><FONT face=Calibri>For more information\, please visit </FONT><A href="http://www.FirstNationalBanks.com">www.FirstNationalBanks.com</A>.</P><DIV style="FONT-FAMILY: Arial">&nbsp\;</DIV>
LOCATION:First National Bank4500 E. 53rd Street Davenport\, IA
UID:e.2843.498
SEQUENCE:3
DTSTAMP:20260421T121146Z
URL:https://member.quadcitieschamber.com/events/details/first-national-bank-ribbon-cutting-01-29-2013-498
END:VEVENT

END:VCALENDAR
