BEGIN:VCALENDAR
VERSION:2.0
PRODID:-//ChamberMaster//Event Calendar 2.0//EN
METHOD:PUBLISH
X-PUBLISHED-TTL:P3D
REFRESH-INTERVAL:P3D
CALSCALE:GREGORIAN
BEGIN:VEVENT
DTSTART:20120223T220000Z
DTEND:20120223T223000Z
X-MICROSOFT-CDO-ALLDAYEVENT:FALSE
SUMMARY:Fitness Xpress Grand Opening & Ribbon Cutting
DESCRIPTION:Please help us celebrate the Grand Opening & Ribbon Cutting for Fitness Xpress/Thin and Healthy’s Total Solution on Thursday\, February 23rd at 4pm. Located at 4200 24th Avenue in Moline – Avenue of the Cities to 41st Street\, South on 41st Street one block.  Turn east (left) beside Jimmy Johns.  Fitness Xpress is on the right behind the Wells Fargo Lanes just to the west of The Avenue of the Cities Hy-Vee in Moline.  Also possible to enter through the Hy-Vee entrance from Avenue of the Cities. ·         Exclusive QC rights to Thin and Healthy Total Solution.  A life success program that guarantees 2-7 pounds weight loss program per week.·         Locally owned and operated.·         Month-to-month fitness memberships – no contracts.·         Memberships as low as $9.95/month·         Newly remodeled 13\,000 square foot fitness facility.·         Full compliment of fun and motivational group fitness classes including Zumba\, Les Mills\, Group Cycling and Yoga. Visit www.fx247.com for more information
X-ALT-DESC;FMTTYPE=text/html:<DIV><FONT face=Calibri><P style="MARGIN: 0in 0in 0pt" class=MsoNormal>Please help us celebrate the Grand Opening &amp\; Ribbon Cutting for Fitness Xpress/Thin and Healthy’s Total Solution on Thursday\, February 23<SUP>rd</SUP> at 4pm.</P><P style="MARGIN: 0in 0in 0pt" class=MsoNormal><?xml:namespace prefix = o ns = "urn:schemas-microsoft-com:office:office" /><o:p>&nbsp\;</o:p></P><P style="MARGIN: 0in 0in 0pt" class=MsoNormal>Located at 4200 24<SUP>th</SUP> Avenue in Moline – Avenue of the Cities to 41<SUP>st</SUP> Street\, South on 41<SUP>st</SUP> Street one block.<SPAN style="mso-spacerun: yes">&nbsp\; </SPAN>Turn east (left) beside Jimmy Johns.<SPAN style="mso-spacerun: yes">&nbsp\; </SPAN>Fitness Xpress is on the right behind the Wells Fargo Lanes just to the west of The Avenue of the Cities Hy-Vee in Moline.<SPAN style="mso-spacerun: yes">&nbsp\; </SPAN>Also possible to enter through the Hy-Vee entrance from Avenue of the Cities.</P><P style="MARGIN: 0in 0in 0pt" class=MsoNormal><o:p>&nbsp\;</o:p></P><P style="TEXT-INDENT: -0.25in\; MARGIN: 0in 0in 0pt 0.5in\; mso-list: l0 level1 lfo1" class=MsoListParagraph><SPAN style="FONT-FAMILY: Symbol\; mso-fareast-font-family: Symbol\; mso-bidi-font-family: Symbol"><SPAN style="mso-list: Ignore">·<SPAN style="FONT: 7pt 'Times New Roman'">&nbsp\;&nbsp\;&nbsp\;&nbsp\;&nbsp\;&nbsp\;&nbsp\;&nbsp\; </SPAN></SPAN></SPAN>Exclusive QC rights to Thin and Healthy Total Solution.<SPAN style="mso-spacerun: yes">&nbsp\; </SPAN>A life success program that guarantees 2-7 pounds weight loss program per week.</P><P style="TEXT-INDENT: -0.25in\; MARGIN: 0in 0in 0pt 0.5in\; mso-list: l0 level1 lfo1" class=MsoListParagraph><SPAN style="FONT-FAMILY: Symbol\; mso-fareast-font-family: Symbol\; mso-bidi-font-family: Symbol"><SPAN style="mso-list: Ignore">·<SPAN style="FONT: 7pt 'Times New Roman'">&nbsp\;&nbsp\;&nbsp\;&nbsp\;&nbsp\;&nbsp\;&nbsp\;&nbsp\; </SPAN></SPAN></SPAN>Locally owned and operated.</P><P style="TEXT-INDENT: -0.25in\; MARGIN: 0in 0in 0pt 0.5in\; mso-list: l0 level1 lfo1" class=MsoListParagraph><SPAN style="FONT-FAMILY: Symbol\; mso-fareast-font-family: Symbol\; mso-bidi-font-family: Symbol"><SPAN style="mso-list: Ignore">·<SPAN style="FONT: 7pt 'Times New Roman'">&nbsp\;&nbsp\;&nbsp\;&nbsp\;&nbsp\;&nbsp\;&nbsp\;&nbsp\; </SPAN></SPAN></SPAN>Month-to-month fitness memberships – no contracts.</P><P style="TEXT-INDENT: -0.25in\; MARGIN: 0in 0in 0pt 0.5in\; mso-list: l0 level1 lfo1" class=MsoListParagraph><SPAN style="FONT-FAMILY: Symbol\; mso-fareast-font-family: Symbol\; mso-bidi-font-family: Symbol"><SPAN style="mso-list: Ignore">·<SPAN style="FONT: 7pt 'Times New Roman'">&nbsp\;&nbsp\;&nbsp\;&nbsp\;&nbsp\;&nbsp\;&nbsp\;&nbsp\; </SPAN></SPAN></SPAN>Memberships as low as $9.95/month</P><P style="TEXT-INDENT: -0.25in\; MARGIN: 0in 0in 0pt 0.5in\; mso-list: l0 level1 lfo1" class=MsoListParagraph><SPAN style="FONT-FAMILY: Symbol\; mso-fareast-font-family: Symbol\; mso-bidi-font-family: Symbol"><SPAN style="mso-list: Ignore">·<SPAN style="FONT: 7pt 'Times New Roman'">&nbsp\;&nbsp\;&nbsp\;&nbsp\;&nbsp\;&nbsp\;&nbsp\;&nbsp\; </SPAN></SPAN></SPAN>Newly remodeled 13\,000 square foot fitness facility.</P><P style="TEXT-INDENT: -0.25in\; MARGIN: 0in 0in 0pt 0.5in\; mso-list: l0 level1 lfo1" class=MsoListParagraph><SPAN style="FONT-FAMILY: Symbol\; mso-fareast-font-family: Symbol\; mso-bidi-font-family: Symbol"><SPAN style="mso-list: Ignore">·<SPAN style="FONT: 7pt 'Times New Roman'">&nbsp\;&nbsp\;&nbsp\;&nbsp\;&nbsp\;&nbsp\;&nbsp\;&nbsp\; </SPAN></SPAN></SPAN>Full compliment of fun and motivational group fitness classes including Zumba\, Les Mills\, Group Cycling and Yoga.</P><P style="MARGIN: 0in 0in 0pt" class=MsoNormal><o:p>&nbsp\;</o:p></P><P style="MARGIN: 0in 0in 0pt" class=MsoNormal>Visit <A href="http://www.fx247.com"><FONT face="Times New Roman">www.fx247.com</FONT></A> for more information</P><P style="MARGIN: 0in 0in 0pt" class=MsoNormal>&nbsp\;</P></FONT></DIV>
LOCATION:Fitness Xpress4200 24th Avenue Moline\, IL 61265
UID:e.2843.349
SEQUENCE:3
DTSTAMP:20260422T093637Z
URL:https://member.quadcitieschamber.com/events/details/fitness-xpress-grand-opening-ribbon-cutting-02-23-2012-349
END:VEVENT

END:VCALENDAR
