BEGIN:VCALENDAR
VERSION:2.0
PRODID:-//ChamberMaster//Event Calendar 2.0//EN
METHOD:PUBLISH
X-PUBLISHED-TTL:P3D
REFRESH-INTERVAL:P3D
CALSCALE:GREGORIAN
BEGIN:VEVENT
DTSTART:20190801T170000Z
DTEND:20190801T180000Z
X-MICROSOFT-CDO-ALLDAYEVENT:FALSE
SUMMARY:FlexCare Telehealth Webinar- Members Only
DESCRIPTION:Quad Cities Chamber Members can now take advantage of a new member perk through FlexCare Telemedicine.\n\nFlexCare telemedicine provides members 24/7/365 telephonic or live video access to physicians in all 50 states who diagnose\, treat and prescribe medication\, when appropriate\, for many acute medical conditions. There is no co-pay for employees to use this service.\n\nCompanies large and small can sign up to receive discounted pricing for FlexCare. Utilize this member perk to help keep your employees healthy\, lower the amount of claims and keep your premiums down to reduce your organizations healthcare costs.\n\n\n\nJoin us for an informational webinar on all that FlexCare has to offer! Register here:\n\n\n\nhttps://www.eventbrite.com/e/flexcare-telehealth-services-free-webinar-registration-65614110571
X-ALT-DESC;FMTTYPE=text/html:<p>Quad Cities Chamber Members can now take advantage of a new member perk through FlexCare Telemedicine.</p>\n\n<p>FlexCare telemedicine provides members 24/7/365 telephonic or live video access to physicians in all 50 states who diagnose\, treat and prescribe medication\, when appropriate\, for many acute medical conditions. There is no co-pay for employees to use this service.</p>\n\n<p>Companies large and small can sign up to receive discounted pricing for FlexCare. Utilize this member perk to help keep your employees healthy\, lower the amount of claims and keep your premiums down to reduce your organizations healthcare costs.<br />\n<br />\nJoin us for an informational webinar on all that FlexCare has to offer! Register here:<br />\n<br />\n<a href="https://www.eventbrite.com/e/flexcare-telehealth-services-free-webinar-registration-65614110571">https://www.eventbrite.com/e/flexcare-telehealth-services-free-webinar-registration-65614110571</a></p>\n
LOCATION:Webinar
UID:e.2843.15484
SEQUENCE:3
DTSTAMP:20260422T100821Z
URL:https://member.quadcitieschamber.com/events/details/flexcare-telehealth-webinar-members-only-15484
END:VEVENT

END:VCALENDAR
