BEGIN:VCALENDAR
VERSION:2.0
PRODID:-//ChamberMaster//Event Calendar 2.0//EN
METHOD:PUBLISH
X-PUBLISHED-TTL:P3D
REFRESH-INTERVAL:P3D
CALSCALE:GREGORIAN
BEGIN:VEVENT
DTSTART:20190415T190000Z
DTEND:20190415T210000Z
X-MICROSOFT-CDO-ALLDAYEVENT:FALSE
SUMMARY:Forklift Safety Training #1260
DESCRIPTION:This course will cover mechanics\, inspection\, and maintenance of forklifts\; ANSI driving procedures\; special operating rules\; stacking and tiering\; and refueling procedures. The course meets training requirements for OSHA 29 CFR 1910.178. Driving is not included.  Call Eastern Iowa Community Colleges at 563.441.4100 to register.
X-ALT-DESC;FMTTYPE=text/html:This course will cover mechanics\, inspection\, and maintenance of forklifts\; ANSI driving procedures\; special operating rules\; stacking and tiering\; and refueling procedures. The course meets training requirements for OSHA 29 CFR 1910.178. Driving is not included.&nbsp\; Call Eastern Iowa Community Colleges at 563.441.4100 to register.
LOCATION:EICC Midwest Center for Public Safety Training\, 8200 N. Fairmount\, Davenport\, IA 52806
UID:e.2843.14275
SEQUENCE:3
DTSTAMP:20260422T162537Z
URL:https://member.quadcitieschamber.com/events/details/forklift-safety-training-1260-14275
END:VEVENT

END:VCALENDAR
