BEGIN:VCALENDAR
VERSION:2.0
PRODID:-//ChamberMaster//Event Calendar 2.0//EN
METHOD:PUBLISH
X-PUBLISHED-TTL:P3D
REFRESH-INTERVAL:P3D
CALSCALE:GREGORIAN
BEGIN:VEVENT
DTSTART:20190720T140000Z
DTEND:20190720T170000Z
X-MICROSOFT-CDO-ALLDAYEVENT:FALSE
SUMMARY:FREE COMMUNITY YOGA 2 YEAR ANNIVERSARY EVENT!
DESCRIPTION:Howard Health Quarters invites the Quad Cities to Free Community YOGA inside the TaxSlayer Center\n\nConcert Arena!\n\nCelebrate our 2 YEAR ANNIVERSARY with us!! ~SHARE & INVITE FRIENDS~\n\nSponsorship and Vendor Opportunities are Available! Message Howard Health Quarters on Facebook for\n\ndetails or contact Aaron Howard at 563-676-1811 or at HowardHealthQuarters@Outlook.com\n\nFree Community YOGA is sponsored by members of our business community. It is a motivational\,\n\nhealing\, and life-improving experience designed for all fitness levels from beginner to advanced.\n\nAll Participants can be entered into drawings for chances to win valuable prizes from our vendors and\n\nsponsors!!\n\nEvent Agenda: \n\n9:00 - Doors open to visit with vendors\n\n10:00 - 10:05: Yoga Introduction\n\n10:05 - 10:50: Yoga " Led by Aaron Elston Howard\n\n10:50 - 11:00 Presentation of Sponsor/Vendor giveaways\n\n11:00 - 12:00: Visit with vendors\, receive FREE massages from the Institute of Therapeutic Massage and\n\nWellness\, free food\, snacks\, free coffee samples\, free wine samples for participants 21 and over!\n\nIt is recommended to arrive to Free Community YOGA between 9:00am - 9:45am \n\nBring a yoga mat or towel\, water bottle\, and money if you wish to purchase items from vendors or\n\ndonate. \n\nFamilies and children 7 and older are welcome! ) *\n\n+ LIKE Howard Health Quarters on Facebook for Free Community YOGA updates+
X-ALT-DESC;FMTTYPE=text/html:Howard Health Quarters invites the Quad Cities to Free Community YOGA inside the TaxSlayer Center<br />\nConcert Arena!<br />\nCelebrate our 2 YEAR ANNIVERSARY with us!! ~SHARE &amp\; INVITE FRIENDS~<br />\nSponsorship and Vendor Opportunities are Available! Message Howard Health Quarters on Facebook for<br />\ndetails or contact Aaron Howard at 563-676-1811 or at HowardHealthQuarters@Outlook.com<br />\nFree Community YOGA is sponsored by members of our business community. It is a motivational\,<br />\nhealing\, and life-improving experience designed for all fitness levels from beginner to advanced.<br />\nAll Participants can be entered into drawings for chances to win valuable prizes from our vendors and<br />\nsponsors!!<br />\nEvent Agenda:&nbsp\;<br />\n9:00 - Doors open to visit with vendors<br />\n10:00 - 10:05: Yoga Introduction<br />\n10:05 - 10:50: Yoga &quot\; Led by Aaron Elston Howard<br />\n10:50 - 11:00 Presentation of Sponsor/Vendor giveaways<br />\n11:00 - 12:00: Visit with vendors\, receive FREE massages from the Institute of Therapeutic Massage and<br />\nWellness\, free food\, snacks\, free coffee samples\, free wine samples for participants 21 and over!<br />\nIt is recommended to arrive to Free Community YOGA between 9:00am - 9:45am&nbsp\;<br />\nBring a yoga mat or towel\, water bottle\, and money if you wish to purchase items from vendors or<br />\ndonate.&nbsp\;<br />\nFamilies and children 7 and older are welcome! ) *<br />\n+ LIKE Howard Health Quarters on Facebook for Free Community YOGA updates+
LOCATION:TaxSlayer Center 1201 River Drive Moline\, IL
UID:e.2843.14314
SEQUENCE:3
DTSTAMP:20260422T113756Z
URL:https://member.quadcitieschamber.com/events/details/free-community-yoga-2-year-anniversary-event-14314
END:VEVENT

END:VCALENDAR
